BEGIN:VCALENDAR
VERSION:2.0
PRODID:-//evangelische-termine.de//NONSGML kigkonsult.se iCalcreator 2.18//
CALSCALE:GREGORIAN
METHOD:PUBLISH
X-WR-CALNAME:iCal Evangelische-Termine 22.04.2026
X-WR-CALDESC:iCalender von Evangelische-Termine (22.04.2026)
X-WR-TIMEZONE:Europe/Berlin
X-MS-OLK-FORCEINSPECTOROPEN:TRUE
BEGIN:VTIMEZONE
TZID:Europe/Berlin
BEGIN:STANDARD
DTSTART:19701025T030000
TZOFFSETFROM:+0200
TZOFFSETTO:+0100
RRULE:FREQ=YEARLY;BYDAY=-1SU;BYMONTH=10
TZNAME:CET
END:STANDARD
BEGIN:DAYLIGHT
DTSTART:19700329T020000
TZOFFSETFROM:+0100
TZOFFSETTO:+0200
RRULE:FREQ=YEARLY;BYDAY=-1SU;BYMONTH=3
TZNAME:CEST
END:DAYLIGHT
END:VTIMEZONE
BEGIN:VEVENT
UID:20260627T180000-30534@evangelische-termine.de
DTSTAMP:20260422T052118Z
DESCRIPTION:\nFür Engagierte: Nein\nVeranstaltungsort: Ev. Stadtkirche Offe
 nbach\nHerrnstraße 44\n63065 Offenbach\nFormat der Veranstaltung: Präsenzv
 eranstaltung\nKurzbeschreibung / Untertitel: Lobsinget dem Herrn - Einladu
 ng zum Mitsingen\nAusführliche Beschreibung: Wir laden herzlich ein zum ge
 meinsamen Singen von bekannten und unbekannten Liedern aus dem Evangelisch
 en Gesangbuch\, begleitet von Rozana Weidmann am Flügel.\nBild Alttext: Au
 fgeschlagenes Gesangbuch\nKosten: Eintritt frei
DTSTART;TZID=Europe/Berlin:20260627T180000
DTEND;TZID=Europe/Berlin:20260627T190000
LOCATION:Offenbach: Ev. Stadtkirche Offenbach
SUMMARY:Geistliche Abendmusik in der Stadtkirche
URL:https://termine.ekhn.de/veranstaltung_im_detail30534.html
END:VEVENT
END:VCALENDAR
