BEGIN:VCALENDAR
VERSION:2.0
PRODID:-//evangelische-termine.de//NONSGML kigkonsult.se iCalcreator 2.18//
CALSCALE:GREGORIAN
METHOD:PUBLISH
X-WR-CALNAME:iCal Evangelische-Termine 24.04.2026
X-WR-CALDESC:iCalender von Evangelische-Termine (24.04.2026)
X-WR-TIMEZONE:Europe/Berlin
X-MS-OLK-FORCEINSPECTOROPEN:TRUE
BEGIN:VTIMEZONE
TZID:Europe/Berlin
BEGIN:STANDARD
DTSTART:19701025T030000
TZOFFSETFROM:+0200
TZOFFSETTO:+0100
RRULE:FREQ=YEARLY;BYDAY=-1SU;BYMONTH=10
TZNAME:CET
END:STANDARD
BEGIN:DAYLIGHT
DTSTART:19700329T020000
TZOFFSETFROM:+0100
TZOFFSETTO:+0200
RRULE:FREQ=YEARLY;BYDAY=-1SU;BYMONTH=3
TZNAME:CEST
END:DAYLIGHT
END:VTIMEZONE
BEGIN:VEVENT
UID:20261012T150000-30760@evangelische-termine.de
DTSTAMP:20260424T000924Z
DESCRIPTION:\nFür Engagierte: Nein\nVeranstaltungsort: Altenwohnanlage Erdg
 .\nIm Mainfeld 16\n60528 Frankfurt am Main\nFormat der Veranstaltung: Präs
 enzveranstaltung\nKosten: Keine
DTSTART;TZID=Europe/Berlin:20261012T150000
DTEND;TZID=Europe/Berlin:20261012T170000
LOCATION:Frankfurt am Main: Altenwohnanlage Erdg.
SUMMARY:Karten u. Klönen\, Im Mainfeld 16\, Frankfurt\, Erdg.
URL:https://termine.ekhn.de/veranstaltung_im_detail30760.html
END:VEVENT
END:VCALENDAR
