BEGIN:VCALENDAR
VERSION:2.0
PRODID:-//evangelische-termine.de//NONSGML kigkonsult.se iCalcreator 2.18//
CALSCALE:GREGORIAN
METHOD:PUBLISH
X-WR-CALNAME:iCal Evangelische-Termine 22.04.2026
X-WR-CALDESC:iCalender von Evangelische-Termine (22.04.2026)
X-WR-TIMEZONE:Europe/Berlin
X-MS-OLK-FORCEINSPECTOROPEN:TRUE
BEGIN:VTIMEZONE
TZID:Europe/Berlin
BEGIN:STANDARD
DTSTART:19701025T030000
TZOFFSETFROM:+0200
TZOFFSETTO:+0100
RRULE:FREQ=YEARLY;BYDAY=-1SU;BYMONTH=10
TZNAME:CET
END:STANDARD
BEGIN:DAYLIGHT
DTSTART:19700329T020000
TZOFFSETFROM:+0100
TZOFFSETTO:+0200
RRULE:FREQ=YEARLY;BYDAY=-1SU;BYMONTH=3
TZNAME:CEST
END:DAYLIGHT
END:VTIMEZONE
BEGIN:VEVENT
UID:20260507T150000-32092@evangelische-termine.de
DTSTAMP:20260422T143310Z
DESCRIPTION:\nFür Engagierte: Nein\nVeranstaltungsort: Ev. Gemeindezentrum 
 Liederbach\nDie Ritterwiesen 2\n65835 Liederbach am Taunus\nFormat der Ver
 anstaltung: Präsenzveranstaltung\nAusführliche Beschreibung: Pfarrerin Bar
 bara Helling lädt zum Frauenkreis ins Ev. Gemeindezentrum ein. Zu einem ge
 mütlichen Gesprächskreis gibt es Kaffee und Kuchen.\nBild Alttext: Sitzgru
 ppe im Ev. Gemeindezentrum Liederbach\nVeranstalter: Ev. Kirchengemeinde L
 iederbach\nTelefonnummer bei Rückfragen zur Veranstaltung: 06196/527060
DTSTART;TZID=Europe/Berlin:20260507T150000
DTEND;TZID=Europe/Berlin:20260507T170000
LOCATION:Liederbach am Taunus: Ev. Gemeindezentrum Liederbach
SUMMARY:Frauenkreis
URL:https://termine.ekhn.de/veranstaltung_im_detail32092.html
END:VEVENT
END:VCALENDAR
