BEGIN:VCALENDAR
VERSION:2.0
PRODID:-//evangelische-termine.de//NONSGML kigkonsult.se iCalcreator 2.18//
CALSCALE:GREGORIAN
METHOD:PUBLISH
X-WR-CALNAME:iCal Evangelische-Termine 22.04.2026
X-WR-CALDESC:iCalender von Evangelische-Termine (22.04.2026)
X-WR-TIMEZONE:Europe/Berlin
X-MS-OLK-FORCEINSPECTOROPEN:TRUE
BEGIN:VTIMEZONE
TZID:Europe/Berlin
BEGIN:STANDARD
DTSTART:19701025T030000
TZOFFSETFROM:+0200
TZOFFSETTO:+0100
RRULE:FREQ=YEARLY;BYDAY=-1SU;BYMONTH=10
TZNAME:CET
END:STANDARD
BEGIN:DAYLIGHT
DTSTART:19700329T020000
TZOFFSETFROM:+0100
TZOFFSETTO:+0200
RRULE:FREQ=YEARLY;BYDAY=-1SU;BYMONTH=3
TZNAME:CEST
END:DAYLIGHT
END:VTIMEZONE
BEGIN:VEVENT
UID:20260520T130000-32094@evangelische-termine.de
DTSTAMP:20260422T155924Z
DESCRIPTION:\nFür Engagierte: Nein\nVeranstaltungsort: DRK-Seniorenbegegnun
 gsstätte\nAlt-Niederhofheim 42\n65835 Liederbach am Taunus\nFormat der Ver
 anstaltung: Präsenzveranstaltung\nAusführliche Beschreibung: Herzliche Ein
 ladung zum Mittagstisch in der Begegnungsstätte des DRK. Es gibt ein lecke
 res Essen\, selbst gekocht vom Helferteam.\nUm eine Anmeldung wird vorab g
 ebeten bei Gemeindepädagogin Sabine Müller unter der Telefonnummer 0157 87
 890180.\nDas Essen kostet 5\,- Euro pro Person.\nVeranstalter: Ev. Kirchen
 gemeinde Liederbach und DRK
DTSTART;TZID=Europe/Berlin:20260520T130000
DTEND;TZID=Europe/Berlin:20260520T143000
LOCATION:Liederbach am Taunus: DRK-Seniorenbegegnungsstätte
SUMMARY:Mittagstisch
URL:https://termine.ekhn.de/veranstaltung_im_detail32094.html
END:VEVENT
END:VCALENDAR
