BEGIN:VCALENDAR
VERSION:2.0
PRODID:-//evangelische-termine.de//NONSGML kigkonsult.se iCalcreator 2.18//
CALSCALE:GREGORIAN
METHOD:PUBLISH
X-WR-CALNAME:iCal Evangelische-Termine 22.04.2026
X-WR-CALDESC:iCalender von Evangelische-Termine (22.04.2026)
X-WR-TIMEZONE:Europe/Berlin
X-MS-OLK-FORCEINSPECTOROPEN:TRUE
BEGIN:VTIMEZONE
TZID:Europe/Berlin
BEGIN:STANDARD
DTSTART:19701025T030000
TZOFFSETFROM:+0200
TZOFFSETTO:+0100
RRULE:FREQ=YEARLY;BYDAY=-1SU;BYMONTH=10
TZNAME:CET
END:STANDARD
BEGIN:DAYLIGHT
DTSTART:19700329T020000
TZOFFSETFROM:+0100
TZOFFSETTO:+0200
RRULE:FREQ=YEARLY;BYDAY=-1SU;BYMONTH=3
TZNAME:CEST
END:DAYLIGHT
END:VTIMEZONE
BEGIN:VEVENT
UID:20260424T193000-32215@evangelische-termine.de
DTSTAMP:20260422T130710Z
DESCRIPTION:\nFür Engagierte: Nein\nVeranstaltungsort: Ev. Gemeindezentrum 
 Liederbach\nDie Ritterwiesen 2\n65835 Liederbach am Taunus\nFormat der Ver
 anstaltung: Präsenzveranstaltung\nAusführliche Beschreibung: Die MÄNNER si
 nd ein fünfstimmiges Vokalensemble aus dem Frankfurter Raum. In ihrem Prog
 ramm „MÄNNERsachen“ beschäftigen sie sich mit Themen\, über die sie sich ä
 rgern und die ihnen am Herzen liegen. Dabei werden Klischees bedient\, abe
 r auch ironisiert und hinterfragt. Freuen Sie sich auf einen vergnüglichen
  Abend.\n\nEintritt: 20 Euro inkl. Snacks & Getränken\n\nKartenvorverkauf 
 ab März bei Schreibwaren Sulikowski\, In den Eichen 2\, oder Ev. Kirchenge
 meinde (kirchengemeinde.liederbach@ekhn.de)\nKosten: Eintritt 20\,- Euro i
 nkl. Snacks und Getränken\nVeranstalter: Ev. Kirchengemeinde Liederbach\nT
 elefonnummer bei Rückfragen zur Veranstaltung: 06196 / 527060
DTSTART;TZID=Europe/Berlin:20260424T193000
DTEND;TZID=Europe/Berlin:20260424T213000
LOCATION:Liederbach am Taunus: Ev. Gemeindezentrum Liederbach
SUMMARY:A-Capella-Konzert: Die MÄNNER singen von MÄNNERsachen
URL:https://termine.ekhn.de/veranstaltung_im_detail32215.html
END:VEVENT
END:VCALENDAR
