BEGIN:VCALENDAR
VERSION:2.0
PRODID:-//evangelische-termine.de//NONSGML kigkonsult.se iCalcreator 2.18//
CALSCALE:GREGORIAN
METHOD:PUBLISH
X-WR-CALNAME:iCal Evangelische-Termine 21.04.2026
X-WR-CALDESC:iCalender von Evangelische-Termine (21.04.2026)
X-WR-TIMEZONE:Europe/Berlin
X-MS-OLK-FORCEINSPECTOROPEN:TRUE
BEGIN:VTIMEZONE
TZID:Europe/Berlin
BEGIN:STANDARD
DTSTART:19701025T030000
TZOFFSETFROM:+0200
TZOFFSETTO:+0100
RRULE:FREQ=YEARLY;BYDAY=-1SU;BYMONTH=10
TZNAME:CET
END:STANDARD
BEGIN:DAYLIGHT
DTSTART:19700329T020000
TZOFFSETFROM:+0100
TZOFFSETTO:+0200
RRULE:FREQ=YEARLY;BYDAY=-1SU;BYMONTH=3
TZNAME:CEST
END:DAYLIGHT
END:VTIMEZONE
BEGIN:VEVENT
UID:20260530T100000-32240@evangelische-termine.de
DTSTAMP:20260421T083746Z
DESCRIPTION:\nFür Engagierte: Nein\nVeranstaltungsort: Haus am Dom\nDomplat
 z 3\n67547 Worms\nFormat der Veranstaltung: Präsenzveranstaltung\nKurzbesc
 hreibung / Untertitel: Neue pastorale Projekte\nAusführliche Beschreibung:
  Die Innovationsförderung der EKHN und des Bistums Mainz arbeitet gemeinsa
 m daran\, die neuen pastoralen Projekte beider Kirchen bekannter zu machen
 . Wir möchten allen Beteiligten und allen\, die sich für Innovation intere
 ssieren\, zeigen\, wie man neue Ideen erfolgreich in die Praxis bringt.\n
 \nDer „Tag der Innovation“ bietet die Möglichkeit\, andere Menschen und Gr
 uppen kennenzulernen\, die ebenfalls an innovativen Projekten arbeiten. Da
 bei können wir viel von Institutionen\, Unternehmen und städtischen Einric
 htungen lernen\, die – genau wie wir – nach neuen Wegen und Lösungen suche
 n.\n\nGeplanter Ablauf:\n10.00 Start an verschiedenen Kundschafterorten (A
 dresse s. unten)\n11.30 Treffen mit allen im Haus am Dom\, Domplatz 3\n12.
 00 Projektpräsentation und gallery walk\n12.45 Mittagessen\n13.30 selbst i
 nnovativ werden\n15.00 Kaffeepause\n15.30 Spirituelles Highlight\n15.45 Fe
 edback\n16.00 Ende\n\nAnmeldung bis zum 10. Mai 2026 unter ekhn.link/Qjgym
 d\nInternetadresse: https://ekhn-spielraeume.de/veranstaltungen/oekumenisc
 her-tag-der-innovation/\nVeranstalter: Innovationsförderung der EKHN\, Bis
 tum Mainz
DTSTART;TZID=Europe/Berlin:20260530T100000
DTEND;TZID=Europe/Berlin:20260530T160000
LOCATION:Worms: Haus am Dom
SUMMARY:Ökumenischer Tag der Innovation :: Inspiration in Worms
URL:https://termine.ekhn.de/veranstaltung_im_detail32240.html
END:VEVENT
END:VCALENDAR
