BEGIN:VCALENDAR
VERSION:2.0
PRODID:-//evangelische-termine.de//NONSGML kigkonsult.se iCalcreator 2.18//
CALSCALE:GREGORIAN
METHOD:PUBLISH
X-WR-CALNAME:iCal Evangelische-Termine 22.04.2026
X-WR-CALDESC:iCalender von Evangelische-Termine (22.04.2026)
X-WR-TIMEZONE:Europe/Berlin
X-MS-OLK-FORCEINSPECTOROPEN:TRUE
BEGIN:VTIMEZONE
TZID:Europe/Berlin
BEGIN:STANDARD
DTSTART:19701025T030000
TZOFFSETFROM:+0200
TZOFFSETTO:+0100
RRULE:FREQ=YEARLY;BYDAY=-1SU;BYMONTH=10
TZNAME:CET
END:STANDARD
BEGIN:DAYLIGHT
DTSTART:19700329T020000
TZOFFSETFROM:+0100
TZOFFSETTO:+0200
RRULE:FREQ=YEARLY;BYDAY=-1SU;BYMONTH=3
TZNAME:CEST
END:DAYLIGHT
END:VTIMEZONE
BEGIN:VEVENT
UID:20260510T100000-32653@evangelische-termine.de
DTSTAMP:20260422T160840Z
DESCRIPTION:\nFür Engagierte: Nein\nVeranstaltungsort: Ev. Kirche Liederbac
 h\nAlt-Oberliederbach 5\n65835 Liederbach am Taunus\nFormat der Veranstalt
 ung: Präsenzveranstaltung\nAusführliche Beschreibung: Es ist für alle Geme
 indemitglieder bereichernd zu erleben\, wie die Konfis die Themen\, die si
 e während ihres Konfirmandenunterrichts und der gemeinsamen Konfi-Freizeit
  beschäftigt haben\, nun im Gottesdienst präsentieren.\nDaher eine herzlic
 he Einladung an alle\, bei diesem Gottesdienst dabei zu sein.\nBild Alttex
 t: Buntes Plakat mit einem Willkommensgruß an die Konfis\nVeranstalter: Ev
 . Kirchengemeinde Liederbach
DTSTART;TZID=Europe/Berlin:20260510T100000
DTEND;TZID=Europe/Berlin:20260510T110000
LOCATION:Liederbach am Taunus: Ev. Kirche Liederbach
SUMMARY:Vorstellungsgottesdienst der Konfirmandinnen und Konfirmanden
URL:https://termine.ekhn.de/veranstaltung_im_detail32653.html
END:VEVENT
END:VCALENDAR
