BEGIN:VCALENDAR
VERSION:2.0
PRODID:-//evangelische-termine.de//NONSGML kigkonsult.se iCalcreator 2.18//
CALSCALE:GREGORIAN
METHOD:PUBLISH
X-WR-CALNAME:iCal Evangelische-Termine 22.04.2026
X-WR-CALDESC:iCalender von Evangelische-Termine (22.04.2026)
X-WR-TIMEZONE:Europe/Berlin
X-MS-OLK-FORCEINSPECTOROPEN:TRUE
BEGIN:VTIMEZONE
TZID:Europe/Berlin
BEGIN:STANDARD
DTSTART:19701025T030000
TZOFFSETFROM:+0200
TZOFFSETTO:+0100
RRULE:FREQ=YEARLY;BYDAY=-1SU;BYMONTH=10
TZNAME:CET
END:STANDARD
BEGIN:DAYLIGHT
DTSTART:19700329T020000
TZOFFSETFROM:+0100
TZOFFSETTO:+0200
RRULE:FREQ=YEARLY;BYDAY=-1SU;BYMONTH=3
TZNAME:CEST
END:DAYLIGHT
END:VTIMEZONE
BEGIN:VEVENT
UID:20260523T180000-32654@evangelische-termine.de
DTSTAMP:20260422T172548Z
DESCRIPTION:\nFür Engagierte: Nein\nVeranstaltungsort: Ev. Kirche Liederbac
 h\nAlt-Oberliederbach 5\n65835 Liederbach am Taunus\nFormat der Veranstalt
 ung: Präsenzveranstaltung\nAusführliche Beschreibung: Pfarrerin Barbara He
 lling und Gemeindepädagogin Sabine Müller feiern mit den Konfirmandinnen u
 nd Konfirmanden sowie deren Familien einen Abendmahlsgottesdienst. Gäste s
 ind herzlich willkommen.\nBild Alttext: Bort\, Trauben und Weinkelch auf d
 em Altar\nVeranstalter: Ev. Kirchengemeinde Liederbach
DTSTART;TZID=Europe/Berlin:20260523T180000
DTEND;TZID=Europe/Berlin:20260523T190000
LOCATION:Liederbach am Taunus: Ev. Kirche Liederbach
SUMMARY:Abendmahlsgottesdienst vor der Konfirmation
URL:https://termine.ekhn.de/veranstaltung_im_detail32654.html
END:VEVENT
END:VCALENDAR
