BEGIN:VCALENDAR
VERSION:2.0
PRODID:-//evangelische-termine.de//NONSGML kigkonsult.se iCalcreator 2.18//
CALSCALE:GREGORIAN
METHOD:PUBLISH
X-WR-CALNAME:iCal Evangelische-Termine 22.04.2026
X-WR-CALDESC:iCalender von Evangelische-Termine (22.04.2026)
X-WR-TIMEZONE:Europe/Berlin
X-MS-OLK-FORCEINSPECTOROPEN:TRUE
BEGIN:VTIMEZONE
TZID:Europe/Berlin
BEGIN:STANDARD
DTSTART:19701025T030000
TZOFFSETFROM:+0200
TZOFFSETTO:+0100
RRULE:FREQ=YEARLY;BYDAY=-1SU;BYMONTH=10
TZNAME:CET
END:STANDARD
BEGIN:DAYLIGHT
DTSTART:19700329T020000
TZOFFSETFROM:+0100
TZOFFSETTO:+0200
RRULE:FREQ=YEARLY;BYDAY=-1SU;BYMONTH=3
TZNAME:CEST
END:DAYLIGHT
END:VTIMEZONE
BEGIN:VEVENT
UID:20260531T100000-32708@evangelische-termine.de
DTSTAMP:20260422T160000Z
DESCRIPTION:\nFür Engagierte: Nein\nVeranstaltungsort: Ev. Kirche Liederbac
 h\nAlt-Oberliederbach 5\n65835 Liederbach am Taunus\nFormat der Veranstalt
 ung: Präsenzveranstaltung\nAusführliche Beschreibung: Sie haben vor 25\, 3
 0\, 50\, 60 oder noch mehr Jahren Ihre Konfirmation gefeiert? Dann laden w
 ir Sie zu diesem Gottesdienst besonders herzlich ein. Denn gemeinsam möcht
 en wir uns an das Fest der Konfirmation erinnern und erneut Gottes Segen e
 mpfangen.\nAlle Jubiläumskonfirmanden werden gebeten\, sich vorher im Geme
 indebüro zu melden\, damit wir eine passende Urkunde vorbereiten können.\n
 Selbstverständlich sind auch alle anderen Gemeindemitglieder herzlich zu d
 iesem Gottesdienst eingeladen.\nBild Alttext: Blick auf die Kirche mit bun
 ten Luftballons\, die in den Himmel steigen.\nVeranstalter: Ev. Kirchengem
 einde Liederbach
DTSTART;TZID=Europe/Berlin:20260531T100000
DTEND;TZID=Europe/Berlin:20260531T110000
LOCATION:Liederbach am Taunus: Ev. Kirche Liederbach
SUMMARY:Jubelkonfirmation
URL:https://termine.ekhn.de/veranstaltung_im_detail32708.html
END:VEVENT
END:VCALENDAR
