BEGIN:VCALENDAR
VERSION:2.0
PRODID:-//evangelische-termine.de//NONSGML kigkonsult.se iCalcreator 2.18//
CALSCALE:GREGORIAN
METHOD:PUBLISH
X-WR-CALNAME:iCal Evangelische-Termine 22.04.2026
X-WR-CALDESC:iCalender von Evangelische-Termine (22.04.2026)
X-WR-TIMEZONE:Europe/Berlin
X-MS-OLK-FORCEINSPECTOROPEN:TRUE
BEGIN:VTIMEZONE
TZID:Europe/Berlin
BEGIN:STANDARD
DTSTART:19701025T030000
TZOFFSETFROM:+0200
TZOFFSETTO:+0100
RRULE:FREQ=YEARLY;BYDAY=-1SU;BYMONTH=10
TZNAME:CET
END:STANDARD
BEGIN:DAYLIGHT
DTSTART:19700329T020000
TZOFFSETFROM:+0100
TZOFFSETTO:+0200
RRULE:FREQ=YEARLY;BYDAY=-1SU;BYMONTH=3
TZNAME:CEST
END:DAYLIGHT
END:VTIMEZONE
BEGIN:VEVENT
UID:20260531T160000-34385@evangelische-termine.de
DTSTAMP:20260422T010953Z
DESCRIPTION:\nKurzbeschreibung / Untertitel: Das Dekanat Ingelheim-Oppenhei
 m lädt ein\nAusführliche Beschreibung: Die Kirchenvorstandsmitglieder der 
 aktuellen Wahlperiode sind vom Evangelischen Dekanat Ingelheim-Oppenheim h
 erzlich eingeladen\, am 31. Mai 2026 (16:00–21:00 Uhr) an einer Rheinschif
 ffahrt von Bingen zur Loreley und zurück teilzunehmen. Das Dekanat möchte 
 den Ehrenamtlichen damit für ihr langjähriges Engagement danken. Abfahrt i
 st um 16:30 Uhr von der Brücke 6 des Binger Anlegers. Für musikalische Unt
 erhaltung\, Fingerfood und Mineralwasser ist gesorgt. Weitere Getränke sin
 d individuell zu zahlen. Ankunft ist ca. um 21:00 Uhr in Bingen. Das Dekan
 at freut sich über Ihre Anmeldung bis zum 15. Mai unter dem Link https://e
 khn.link/uJgrH9 oder unter der E-Mail-Adresse dekanat.ingelheim-oppenheim@
 ekhn.de\nAnmeldung: Ja\nInternetadresse: https://evangelisches-dekanat-ing
 elheim-oppenheim.de/\nForm der Veranstaltung: Präsenzveranstaltung\nVerans
 talter: Evangelisches Dekanat Ingelheim-Oppenheim
DTSTART;TZID=Europe/Berlin:20260531T160000
DTEND;TZID=Europe/Berlin:20260531T210000
LOCATION:: Ohne Ort
SUMMARY:Rheinschifffahrt als Dank für Kirchenvorstandsmitglieder des Dekana
 ts
URL:https://termine.ekhn.de/veranstaltung_im_detail34385.html
END:VEVENT
END:VCALENDAR
