BEGIN:VCALENDAR
VERSION:2.0
PRODID:-//evangelische-termine.de//NONSGML kigkonsult.se iCalcreator 2.18//
CALSCALE:GREGORIAN
METHOD:PUBLISH
X-WR-CALNAME:iCal Evangelische-Termine 21.04.2026
X-WR-CALDESC:iCalender von Evangelische-Termine (21.04.2026)
X-WR-TIMEZONE:Europe/Berlin
X-MS-OLK-FORCEINSPECTOROPEN:TRUE
BEGIN:VTIMEZONE
TZID:Europe/Berlin
BEGIN:STANDARD
DTSTART:19701025T030000
TZOFFSETFROM:+0200
TZOFFSETTO:+0100
RRULE:FREQ=YEARLY;BYDAY=-1SU;BYMONTH=10
TZNAME:CET
END:STANDARD
BEGIN:DAYLIGHT
DTSTART:19700329T020000
TZOFFSETFROM:+0100
TZOFFSETTO:+0200
RRULE:FREQ=YEARLY;BYDAY=-1SU;BYMONTH=3
TZNAME:CEST
END:DAYLIGHT
END:VTIMEZONE
BEGIN:VEVENT
UID:20260326T173000-34599@evangelische-termine.de
DTSTAMP:20260421T085247Z
DESCRIPTION:\nVeranstaltungsort: Evangelische Hochschule Darmstadt\nZweifal
 ltorweg 12\n64293 Darmstadt\nAusführliche Beschreibung: Was sind die gesun
 dheitlichen Folgen von Flucht und Migration? Welchen Zugang zum Gesundheit
 ssystem haben Geflüchtete? Die Fortbildung informiert über die unterschied
 lichen Zugangswege und Barrieren\, denen Geflüchtete in ihrer Gesundheitsv
 ersorgung begegnen und zeigt auf\, wie Ehrenamtliche hier unterstützend wi
 rksam werden können. \n\n\nReferentin: Ulrike Manz (EHD) / Gerhard Wacker 
 (MMM)\n\nDie Hilfsbereitschaft ehrenamtlich engagierter Menschen in der Fl
 üchtlingshilfe ist beeindruckend. Unser Fortbildungsprogramm soll dazu bei
 tragen\, Sie in ihrer Arbeit zu unterstützen und zu qualifizieren. So soll
  Ihre Motivation und Ihr Engagement auch in schwierigen Situationen Bestan
 d haben können. Neben Grundlagenwissen geht es auch darum\, zu erfahren\, 
 wo man sich Unterstützung holen kann und um einen Erfahrungsaustausch.\n\n
 Das Programm besteht aus neun in sich geschlossenen Bausteinen\, die auch 
 unabhängig voneinander besucht werden können. Bei Teilnahme an allen Baust
 einen des Fortbildungsprogramms kann ein Zertifikat ausgestellt werden. Di
 e Teilnahme ist kostenfrei.\n\nDie Veranstaltungen finden in den Räumen de
 r Evangelischen Hochschule Darmstadt im Zweifalltorweg 12 in Darmstadt sta
 tt (direkt hinter dem HBF).\n\nEntwickelt und angeboten von:\n\n    Evange
 lische Hochschule Darmstadt\,\n    Evangelisches Dekanat Darmstadt\n    Fr
 eiwilligenzentrum Darmstadt\n\nDie Anmeldung zum Fortbildungsprogramm erfo
 lgt online unter: www.freiwilligenzentrum-darmstadt.org\n\nDie Veranstaltu
 ngsreihe wird begleitet von einer Kunstausstellung der Mainzer Künstlerin 
 Martina Hammel. Die Eröffnung der Ausstellung findet am 20. Oktober 2025 u
 m 18.00 Uhr in der Aula der EHD statt.\n\nDas gesamte Programm der Fortbil
 dungsreihe finden Sie hier\nInternetadresse: https://www.dekanat-darmstadt
 .de/fileadmin/content/dekanat-darmstadt-stadt/Bilder/Arbeitsbereiche/Bildu
 ng_und_GV/Herbst_2025/2025_2026_Fortbildungsreihe_Ehrenamtliche_Gefluechte
 te.pdf
DTSTART;TZID=Europe/Berlin:20260326T173000
DTEND;TZID=Europe/Berlin:20260326T200000
LOCATION:Darmstadt: Evangelische Hochschule Darmstadt
SUMMARY:Gesundheitsversorgung für geflüchtete Menschen :: Fortbildung für E
 hrenamtliche in der Flüchtlingsarbeit  
URL:https://termine.ekhn.de/veranstaltung_im_detail34599.html
END:VEVENT
END:VCALENDAR
