BEGIN:VCALENDAR
VERSION:2.0
PRODID:-//evangelische-termine.de//NONSGML kigkonsult.se iCalcreator 2.18//
CALSCALE:GREGORIAN
METHOD:PUBLISH
X-WR-CALNAME:iCal Evangelische-Termine 22.04.2026
X-WR-CALDESC:iCalender von Evangelische-Termine (22.04.2026)
X-WR-TIMEZONE:Europe/Berlin
X-MS-OLK-FORCEINSPECTOROPEN:TRUE
BEGIN:VTIMEZONE
TZID:Europe/Berlin
BEGIN:STANDARD
DTSTART:19701025T030000
TZOFFSETFROM:+0200
TZOFFSETTO:+0100
RRULE:FREQ=YEARLY;BYDAY=-1SU;BYMONTH=10
TZNAME:CET
END:STANDARD
BEGIN:DAYLIGHT
DTSTART:19700329T020000
TZOFFSETFROM:+0100
TZOFFSETTO:+0200
RRULE:FREQ=YEARLY;BYDAY=-1SU;BYMONTH=3
TZNAME:CEST
END:DAYLIGHT
END:VTIMEZONE
BEGIN:VEVENT
UID:20260531T100000-35904@evangelische-termine.de
DTSTAMP:20260422T160725Z
DESCRIPTION:\nFür Engagierte: Nein\nVeranstaltungsort: Ev. Kirche Bad Soden
 \nZum Quellenpark 26\n65812 Bad Soden\nFormat der Veranstaltung: Präsenzve
 ranstaltung\nVeranstalter: Ev. Kirchengemeinde Bad Soden
DTSTART;TZID=Europe/Berlin:20260531T100000
DTEND;TZID=Europe/Berlin:20260531T110000
LOCATION:Bad Soden: Ev. Kirche Bad Soden
SUMMARY:Gottesdienst :: zur Feier der Konfirmationsjubiläen mit Feier des H
 l. Abendmahls - Pfrin. Hering
URL:https://termine.ekhn.de/veranstaltung_im_detail35904.html
END:VEVENT
END:VCALENDAR
