BEGIN:VCALENDAR
VERSION:2.0
PRODID:-//evangelische-termine.de//NONSGML kigkonsult.se iCalcreator 2.18//
CALSCALE:GREGORIAN
METHOD:PUBLISH
X-WR-CALNAME:iCal Evangelische-Termine 22.04.2026
X-WR-CALDESC:iCalender von Evangelische-Termine (22.04.2026)
X-WR-TIMEZONE:Europe/Berlin
X-MS-OLK-FORCEINSPECTOROPEN:TRUE
BEGIN:VTIMEZONE
TZID:Europe/Berlin
BEGIN:STANDARD
DTSTART:19701025T030000
TZOFFSETFROM:+0200
TZOFFSETTO:+0100
RRULE:FREQ=YEARLY;BYDAY=-1SU;BYMONTH=10
TZNAME:CET
END:STANDARD
BEGIN:DAYLIGHT
DTSTART:19700329T020000
TZOFFSETFROM:+0100
TZOFFSETTO:+0200
RRULE:FREQ=YEARLY;BYDAY=-1SU;BYMONTH=3
TZNAME:CEST
END:DAYLIGHT
END:VTIMEZONE
BEGIN:VEVENT
UID:20260513T151500-36690@evangelische-termine.de
DTSTAMP:20260422T160726Z
DESCRIPTION:\nFür Engagierte: Nein\nVeranstaltungsort: Alten- und Pflegehei
 m St. Elisabeth\nKönigsteiner Straße 81\n65812 Bad Soden\nFormat der Veran
 staltung: Präsenzveranstaltung\nVeranstalter: Ev. Kirchengemeinde Bad Sode
 n
DTSTART;TZID=Europe/Berlin:20260513T151500
DTEND;TZID=Europe/Berlin:20260513T161500
LOCATION:Bad Soden: Alten- und Pflegeheim St. Elisabeth
SUMMARY:Gottesdienst :: Pfr. Heidrich
URL:https://termine.ekhn.de/veranstaltung_im_detail36690.html
END:VEVENT
END:VCALENDAR
