BEGIN:VCALENDAR
VERSION:2.0
PRODID:-//evangelische-termine.de//NONSGML kigkonsult.se iCalcreator 2.18//
CALSCALE:GREGORIAN
METHOD:PUBLISH
X-WR-CALNAME:iCal Evangelische-Termine 22.04.2026
X-WR-CALDESC:iCalender von Evangelische-Termine (22.04.2026)
X-WR-TIMEZONE:Europe/Berlin
X-MS-OLK-FORCEINSPECTOROPEN:TRUE
BEGIN:VTIMEZONE
TZID:Europe/Berlin
BEGIN:STANDARD
DTSTART:19701025T030000
TZOFFSETFROM:+0200
TZOFFSETTO:+0100
RRULE:FREQ=YEARLY;BYDAY=-1SU;BYMONTH=10
TZNAME:CET
END:STANDARD
BEGIN:DAYLIGHT
DTSTART:19700329T020000
TZOFFSETFROM:+0100
TZOFFSETTO:+0200
RRULE:FREQ=YEARLY;BYDAY=-1SU;BYMONTH=3
TZNAME:CEST
END:DAYLIGHT
END:VTIMEZONE
BEGIN:VEVENT
UID:20260531T160000-37009@evangelische-termine.de
DTSTAMP:20260422T143940Z
DESCRIPTION:\nFür Engagierte: Nein\nVeranstaltungsort: Ev. Kirche Sulzbach
 \nPlatz an der Linde 5\n65843 Sulzbach (Taunus)\nFormat der Veranstaltung:
  Präsenzveranstaltung\nAusführliche Beschreibung: Auf dem Programm steht d
 as Orgelmärchen „Die Arche Noah“ \nvon Johannes Matthias Michel über Musik
  von Johann-Sebastian Bach.\nDie Geschichte von Noah und den Tieren wird i
 n Wort und Musik lebendig erzählt. \nAn der Orgel ist Capucine Payan zu hö
 ren\, die Sprecherin ist Esther Schaller. \nGemeinsam nehmen sie ihr junge
 s Publikum mit auf eine klangvolle Reise\, bei der \ndie Orgel die verschi
 edenen Szenen und Tiere musikalisch darstellt.\nFür sein Orgelkonzert für 
 Kinder hat Johannes Matthias Michel Originalwerke und \nBearbeitungen auss
 chließlich bachscher Werke verwendet. Damit macht er \neinerseits die bibl
 ische Geschichte erlebbar. Andererseits bringt er Kinder in \nKontakt mit 
 der Musik Johann Sebastian Bach.\nKosten: Eintritt ist frei\, um Spenden w
 ird gebeten\nVeranstalter: Evangelische Kirchengemeinde Sulzbach (Taunus)
DTSTART;TZID=Europe/Berlin:20260531T160000
DTEND;TZID=Europe/Berlin:20260531T170000
LOCATION:Sulzbach (Taunus): Ev. Kirche Sulzbach
SUMMARY:„Die Arche Noah“ :: Orgelkonzert für Kinder und ihre Familien
URL:https://termine.ekhn.de/veranstaltung_im_detail37009.html
END:VEVENT
END:VCALENDAR
