BEGIN:VCALENDAR
VERSION:2.0
PRODID:-//evangelische-termine.de//NONSGML kigkonsult.se iCalcreator 2.18//
CALSCALE:GREGORIAN
METHOD:PUBLISH
X-WR-CALNAME:iCal Evangelische-Termine 22.04.2026
X-WR-CALDESC:iCalender von Evangelische-Termine (22.04.2026)
X-WR-TIMEZONE:Europe/Berlin
X-MS-OLK-FORCEINSPECTOROPEN:TRUE
BEGIN:VTIMEZONE
TZID:Europe/Berlin
BEGIN:STANDARD
DTSTART:19701025T030000
TZOFFSETFROM:+0200
TZOFFSETTO:+0100
RRULE:FREQ=YEARLY;BYDAY=-1SU;BYMONTH=10
TZNAME:CET
END:STANDARD
BEGIN:DAYLIGHT
DTSTART:19700329T020000
TZOFFSETFROM:+0100
TZOFFSETTO:+0200
RRULE:FREQ=YEARLY;BYDAY=-1SU;BYMONTH=3
TZNAME:CEST
END:DAYLIGHT
END:VTIMEZONE
BEGIN:VEVENT
UID:20260508T123000-37544@evangelische-termine.de
DTSTAMP:20260422T144927Z
DESCRIPTION:\nFür Engagierte: Nein\nVeranstaltungsort: Ev. Gemeindehaus (He
 rrnbau)\nHerrngasse 7\n65812 Bad Soden a.Ts.\nFormat der Veranstaltung: Pr
 äsenzveranstaltung\nAusführliche Beschreibung: Zeit für Begegnung – Zeit f
 ür Gespräche – Zeit für ein gemeinsames Mittagessen.\n\nDazu laden wir\, d
 as „Mittags-Schmaus-Team“ der Evangelischen Kirchengemeinde Neuenhain und 
 der Caritas St. Katharina Bad Soden\, ganz herzlich ein. Wir möchten gut f
 ür Sie und vielleicht auch mit Ihnen kochen und essen. Willkommen sind all
 e Menschen aus Bad Soden\, Neuenhain und Altenhain sowie Mammolshain – ega
 l welchen Alters.\n\nDas Treffen findet zu den angegebenen Terminen jeweil
 s von 12.30 Uhr bis 14.00 Uhr im Gemeindesaal im Herrbau in Neuenhain stat
 t.\n\nDas Angebot ist kostenfrei\, Spenden sind willkommen.\n\nZur Erleich
 terung der Essensplanung bittet das Team um Anmeldung im Ev. Gemeindebüro 
 Neuenhain\, Tel. 06196/23566. Aber auch Kurzentschlossene sind willkommen.
 \n\nDas „Mittagsschmausteam“ ist auf der Suche nach weiterer Unterstützung
  1x pro Monat in der Küche und beim Vorbereiten von leckeren Mahlzeiten.\n
 Bei Interesse melden Sie sich bitte im Gemeindebüro bei Frau Gilgen\, Tel.
  06196-23566 oder per Mail an: kontakt@kirche-neuenhain.de\n\nDas „Mittags
 -Schmaus-Team“ freut sich auf Sie!\nVeranstalter: Ev. Kirchengemeinde Neue
 nhain / Caritas St. Katharina Bad Soden
DTSTART;TZID=Europe/Berlin:20260508T123000
DTEND;TZID=Europe/Berlin:20260508T140000
LOCATION:Bad Soden a.Ts.: Ev. Gemeindehaus (Herrnbau)
SUMMARY:Gemeinsam Schmausen - Anmeldung erbeten
URL:https://termine.ekhn.de/veranstaltung_im_detail37544.html
END:VEVENT
END:VCALENDAR
