BEGIN:VCALENDAR
VERSION:2.0
PRODID:-//evangelische-termine.de//NONSGML kigkonsult.se iCalcreator 2.18//
CALSCALE:GREGORIAN
METHOD:PUBLISH
X-WR-CALNAME:iCal Evangelische-Termine 22.04.2026
X-WR-CALDESC:iCalender von Evangelische-Termine (22.04.2026)
X-WR-TIMEZONE:Europe/Berlin
X-MS-OLK-FORCEINSPECTOROPEN:TRUE
BEGIN:VTIMEZONE
TZID:Europe/Berlin
BEGIN:STANDARD
DTSTART:19701025T030000
TZOFFSETFROM:+0200
TZOFFSETTO:+0100
RRULE:FREQ=YEARLY;BYDAY=-1SU;BYMONTH=10
TZNAME:CET
END:STANDARD
BEGIN:DAYLIGHT
DTSTART:19700329T020000
TZOFFSETFROM:+0100
TZOFFSETTO:+0200
RRULE:FREQ=YEARLY;BYDAY=-1SU;BYMONTH=3
TZNAME:CEST
END:DAYLIGHT
END:VTIMEZONE
BEGIN:VEVENT
UID:20260603T150000-37546@evangelische-termine.de
DTSTAMP:20260422T144926Z
DESCRIPTION:\nFür Engagierte: Nein\nVeranstaltungsort: Bürgerhaus Neuenhain
 \nHauptstraße 45\n65812 Bad Soden am Taunus\nFormat der Veranstaltung: Prä
 senzveranstaltung\nAusführliche Beschreibung: Der Seniorenclub Neuenhain t
 rifft sich einmal im Monat mittwochs von 15.00 – 17.00\nUhr im Bürgerhaus.
  Wir haben immer ein buntes\, abwechslungsreiches Programm und freuen uns 
 über alle\, die einmal „reinschnuppern“ möchten. Kommen Sie einfach vorbei
 !\n\nWenn Sie gerne an den Treffen des Seniorenclubs Neuenhain im Bürgerha
 us teilnehmen möchten\, der Weg für Sie aber zu weit oder zu beschwerlich 
 ist\, dann können Sie sich von uns mit dem Kleinbus abholen und wieder nac
 h Hause bringen\nlassen! Anmeldung für den Fahrdienst bis Dienstag vorher 
 bei:\nSabine Müller\, Tel: 0157 87890180\noder im Gemeindebüro\, Tel: 0619
 6 23566
DTSTART;TZID=Europe/Berlin:20260603T150000
DTEND;TZID=Europe/Berlin:20260603T170000
LOCATION:Bad Soden am Taunus: Bürgerhaus Neuenhain
SUMMARY:Seniorenclub
URL:https://termine.ekhn.de/veranstaltung_im_detail37546.html
END:VEVENT
END:VCALENDAR
