BEGIN:VCALENDAR
VERSION:2.0
PRODID:-//evangelische-termine.de//NONSGML kigkonsult.se iCalcreator 2.18//
CALSCALE:GREGORIAN
METHOD:PUBLISH
X-WR-CALNAME:iCal Evangelische-Termine 22.04.2026
X-WR-CALDESC:iCalender von Evangelische-Termine (22.04.2026)
X-WR-TIMEZONE:Europe/Berlin
X-MS-OLK-FORCEINSPECTOROPEN:TRUE
BEGIN:VTIMEZONE
TZID:Europe/Berlin
BEGIN:STANDARD
DTSTART:19701025T030000
TZOFFSETFROM:+0200
TZOFFSETTO:+0100
RRULE:FREQ=YEARLY;BYDAY=-1SU;BYMONTH=10
TZNAME:CET
END:STANDARD
BEGIN:DAYLIGHT
DTSTART:19700329T020000
TZOFFSETFROM:+0100
TZOFFSETTO:+0200
RRULE:FREQ=YEARLY;BYDAY=-1SU;BYMONTH=3
TZNAME:CEST
END:DAYLIGHT
END:VTIMEZONE
BEGIN:VEVENT
UID:20260521T150000-37551@evangelische-termine.de
DTSTAMP:20260422T131843Z
DESCRIPTION:\nFür Engagierte: Nein\nVeranstaltungsort: Ev. Gemeindehaus (He
 rrnbau)\nHerrngasse 7\n65812 Bad Soden a.Ts.\nFormat der Veranstaltung: Pr
 äsenzveranstaltung\nAusführliche Beschreibung: Der Spielekreis für Seniore
 n ab 60+ findet in der Regel jeden 3. Donnerstag im Monat von 15.00 bis 17
 .00 Uhr im Jugendraum\, im Erdgeschoss des Herrnbaus\, statt. Wir spielen 
 gemeinsam Brettspiele und Karten. Ihre Lieblingsspiele bringen Sie gerne m
 it. Kommen Sie einfach vorbei! Eine Anmeldung ist nicht erforderlich. Es f
 indet keine Bewirtung statt.\n\nWir freuen uns auf viel Spaß in geselliger
  Runde!\nVeranstalter: Ev. Kirchengemeinde Neuenhain
DTSTART;TZID=Europe/Berlin:20260521T150000
DTEND;TZID=Europe/Berlin:20260521T170000
LOCATION:Bad Soden a.Ts.: Ev. Gemeindehaus (Herrnbau)
SUMMARY:Spielekreis Herrnbau
URL:https://termine.ekhn.de/veranstaltung_im_detail37551.html
END:VEVENT
END:VCALENDAR
