BEGIN:VCALENDAR
VERSION:2.0
PRODID:-//evangelische-termine.de//NONSGML kigkonsult.se iCalcreator 2.18//
CALSCALE:GREGORIAN
METHOD:PUBLISH
X-WR-CALNAME:iCal Evangelische-Termine 22.04.2026
X-WR-CALDESC:iCalender von Evangelische-Termine (22.04.2026)
X-WR-TIMEZONE:Europe/Berlin
X-MS-OLK-FORCEINSPECTOROPEN:TRUE
BEGIN:VTIMEZONE
TZID:Europe/Berlin
BEGIN:STANDARD
DTSTART:19701025T030000
TZOFFSETFROM:+0200
TZOFFSETTO:+0100
RRULE:FREQ=YEARLY;BYDAY=-1SU;BYMONTH=10
TZNAME:CET
END:STANDARD
BEGIN:DAYLIGHT
DTSTART:19700329T020000
TZOFFSETFROM:+0100
TZOFFSETTO:+0200
RRULE:FREQ=YEARLY;BYDAY=-1SU;BYMONTH=3
TZNAME:CEST
END:DAYLIGHT
END:VTIMEZONE
BEGIN:VEVENT
UID:20260503T110000-37578@evangelische-termine.de
DTSTAMP:20260422T154815Z
DESCRIPTION:\nFür Engagierte: Nein\nVeranstaltungsort: Dorfgemeinschaftshau
 s Mammolshain\nOberstraße 4\n61462 Königstein\nFormat der Veranstaltung: P
 räsenzveranstaltung\nAusführliche Beschreibung: Ab dem 8. März 2026 feiern
  wir einmal im Monat den Gottesdienst im Dorfgemeinschaftshaus in Mammolsh
 ain statt in der Kirche.\nWir haben uns dazu entschieden\, weil die Kirche
  für Menschen mit Gehbehinderung nur sehr schwer zu erreichen ist\, da es 
 30 Stufen bis zum Gottesdienstraum sind. Um aber allen\, die gerne in den 
 Gottesdienst gehen möchten\, den Zugang zu erleichtern\, gehen wir zukünft
 ig auch ins Dorfgemeinschaftshaus.\nWir danken der Stadt Königstein\, die 
 uns freundlicherweise das DGH kostenfrei für Gottesdienste zur Verfügung s
 tellt!\nVeranstalter: Ev. Kirchengemeinde Neuenhain
DTSTART;TZID=Europe/Berlin:20260503T110000
DTEND;TZID=Europe/Berlin:20260503T120000
LOCATION:Königstein: Dorfgemeinschaftshaus Mammolshain
SUMMARY:Gottesdienst :: Pfarrer Stefan Rexroth
URL:https://termine.ekhn.de/veranstaltung_im_detail37578.html
END:VEVENT
END:VCALENDAR
