BEGIN:VCALENDAR
VERSION:2.0
PRODID:-//evangelische-termine.de//NONSGML kigkonsult.se iCalcreator 2.18//
CALSCALE:GREGORIAN
METHOD:PUBLISH
X-WR-CALNAME:iCal Evangelische-Termine 23.04.2026
X-WR-CALDESC:iCalender von Evangelische-Termine (23.04.2026)
X-WR-TIMEZONE:Europe/Berlin
X-MS-OLK-FORCEINSPECTOROPEN:TRUE
BEGIN:VTIMEZONE
TZID:Europe/Berlin
BEGIN:STANDARD
DTSTART:19701025T030000
TZOFFSETFROM:+0200
TZOFFSETTO:+0100
RRULE:FREQ=YEARLY;BYDAY=-1SU;BYMONTH=10
TZNAME:CET
END:STANDARD
BEGIN:DAYLIGHT
DTSTART:19700329T020000
TZOFFSETFROM:+0100
TZOFFSETTO:+0200
RRULE:FREQ=YEARLY;BYDAY=-1SU;BYMONTH=3
TZNAME:CEST
END:DAYLIGHT
END:VTIMEZONE
BEGIN:VEVENT
UID:20260512T183000-37937@evangelische-termine.de
DTSTAMP:20260423T183027Z
DESCRIPTION:\nVeranstaltungsort: Prälat-Diehl-Haus\nGrabengasse 20\n64372 O
 ber-Ramstadt\nKurzbeschreibung / Untertitel: Herzliche Einladung zu den Pr
 oben!\nAusführliche Beschreibung: Der Posaunenchor freut sich immer über n
 eue Mitglieder! \nDie Proben finden jeweils dienstags im Prälat-Diehl-Haus
  statt. Bei Interesse melden Sie sich am besten vorher bei Carolin Raschke
 . \nKommen Sie vorbei und lernen Sie die Gruppen und Carolin Raschke kenne
 n!\nKontakt: carolin.raschke@ekhn.de\, 0157 - 54 42 90 05\nGemeinde: Ober-
 Ramstadt\nVeranstaltungstyp: Musik+Kultur\; Musik\nAngebotstyp: Musik+Kult
 ur\; Musik
DTSTART;TZID=Europe/Berlin:20260512T183000
DTEND;TZID=Europe/Berlin:20260512T193000
LOCATION:Ober-Ramstadt: Prälat-Diehl-Haus
SUMMARY:Probe des Posaunenchors
URL:https://termine.ekhn.de/veranstaltung_im_detail37937.html
END:VEVENT
END:VCALENDAR
