BEGIN:VCALENDAR
VERSION:2.0
PRODID:-//evangelische-termine.de//NONSGML kigkonsult.se iCalcreator 2.18//
CALSCALE:GREGORIAN
METHOD:PUBLISH
X-WR-CALNAME:iCal Evangelische-Termine 24.04.2026
X-WR-CALDESC:iCalender von Evangelische-Termine (24.04.2026)
X-WR-TIMEZONE:Europe/Berlin
X-MS-OLK-FORCEINSPECTOROPEN:TRUE
BEGIN:VTIMEZONE
TZID:Europe/Berlin
BEGIN:STANDARD
DTSTART:19701025T030000
TZOFFSETFROM:+0200
TZOFFSETTO:+0100
RRULE:FREQ=YEARLY;BYDAY=-1SU;BYMONTH=10
TZNAME:CET
END:STANDARD
BEGIN:DAYLIGHT
DTSTART:19700329T020000
TZOFFSETFROM:+0100
TZOFFSETTO:+0200
RRULE:FREQ=YEARLY;BYDAY=-1SU;BYMONTH=3
TZNAME:CEST
END:DAYLIGHT
END:VTIMEZONE
BEGIN:VEVENT
UID:20260424T200000-38162@evangelische-termine.de
DTSTAMP:20260424T141010Z
DESCRIPTION:\nVeranstaltungsort: Evangelische Kirche Ober-Ramstadt\nFriedho
 fstraße\n64372 Ober-Ramstadt\nZu Fuß:\nDer Zugang zu Fuß zur Kirche aus Ri
 chtung Hauptstraße (Westen) ist von der Sackgasse der Grafenstraße aus\, v
 orbei am Heimatmuseum durch das untere Friedhofstor.\nAus Richtung Osten k
 ommt man durch das obere Friedhofstor in der Friedhofsstraße zur Kirche.\n
 \nMit dem Auto:\nWenn Sie mit dem Auto kommen\, parken Sie am besten auf d
 em großen Parkplatz Ecke Grabengasse / Friedhofstraße (gegenüber der Gärtn
 erei). Sie gehen vom Parkplatz aus ein Stück die Friedhofstraße entlang un
 d gehen dann links durch das obere Friedhofstor.\nDie Kirche liegt direkt 
 auf dem Friedhof. Sie ist eine von ganz wenigen Kirchen\, um die herum sic
 h noch ein Friedhof befindet. Der Friedhof mit der Kirche befindet sich zw
 ischen den Straßen Grafengasse\, Prälat-Diehl-Straße\, Schulstraße und Fri
 edhofstraße.\nKurzbeschreibung / Untertitel: Herzliche Einladung zu den Pr
 oben!\nAusführliche Beschreibung: Die 'Kirchenband' in Ober-Ramstadt probt
  jeden Freitagabend mit Gerlinde Fricke in der evangelischen Kirche in Obe
 r-Ramstadt \, um die 'Gott-um-elf'-Gottesdienste und andere besondere Gott
 esdienste musikalisch mit neuen Liedern zu gestalten. Klavier\, Ukulele\, 
 Klarinette/Saxophon\, Schlagzeug\, und Gesang ist die augenblickliche Bese
 tzung. Ein*e Bassist*in sowie ein*e Gitarrist*in wäre eine tolle Ergänzung
 . Auch eine Querflöte war schon mal dabei.\n\nWir haben Spaß an Musik - du
  auch?\nWir spielen Ukulele\, Gitarre\, Schlagzeug\, Klarinette\, Cajon\, 
 Klavier und singen. - Natürlich nicht jede/r alles...\nWir spielen christl
 iche Popmusik und andere moderne Lieder für Gottesdienste und manchmal ein
 fach das\, was uns Spaß macht. In der Regel spielen wir bei den Gott-um-el
 f-Gottesdiensten (ca. 6 Mal im Jahr) und bei manchen Gottesdiensten mit un
 d für Jugendliche.\nEinmal in der Woche proben wir eine Stunde lang in der
  Kirche.\nWenn du Lust hast\, bei uns mitzumachen\, melde dich :)
DTSTART;TZID=Europe/Berlin:20260424T200000
DTEND;TZID=Europe/Berlin:20260424T210000
LOCATION:Ober-Ramstadt: Evangelische Kirche Ober-Ramstadt
SUMMARY:Probe der Kirchenband
URL:https://termine.ekhn.de/veranstaltung_im_detail38162.html
END:VEVENT
END:VCALENDAR
