BEGIN:VCALENDAR
VERSION:2.0
PRODID:-//evangelische-termine.de//NONSGML kigkonsult.se iCalcreator 2.18//
CALSCALE:GREGORIAN
METHOD:PUBLISH
X-WR-CALNAME:iCal Evangelische-Termine 25.04.2026
X-WR-CALDESC:iCalender von Evangelische-Termine (25.04.2026)
X-WR-TIMEZONE:Europe/Berlin
X-MS-OLK-FORCEINSPECTOROPEN:TRUE
BEGIN:VTIMEZONE
TZID:Europe/Berlin
BEGIN:STANDARD
DTSTART:19701025T030000
TZOFFSETFROM:+0200
TZOFFSETTO:+0100
RRULE:FREQ=YEARLY;BYDAY=-1SU;BYMONTH=10
TZNAME:CET
END:STANDARD
BEGIN:DAYLIGHT
DTSTART:19700329T020000
TZOFFSETFROM:+0100
TZOFFSETTO:+0200
RRULE:FREQ=YEARLY;BYDAY=-1SU;BYMONTH=3
TZNAME:CEST
END:DAYLIGHT
END:VTIMEZONE
BEGIN:VEVENT
UID:20260429T193000-38171@evangelische-termine.de
DTSTAMP:20260425T141459Z
DESCRIPTION:\nVeranstaltungsort: Prälat-Diehl-Haus\nGrabengasse 20\n64372 O
 ber-Ramstadt\nKurzbeschreibung / Untertitel: Herzliche Einladung zu den Pr
 oben!\nAusführliche Beschreibung: Der Chor freut sich immer über neue Mitg
 lieder! \nDie Proben finden jeweils mittwochs im Prälat-Diehl-Haus statt. 
 Bei Interesse melden Sie sich am besten vorher bei Carolin Raschke. \nKomm
 en Sie vorbei und lernen Sie die Gruppen und Carolin Raschke kennen!\nKont
 akt: carolin.raschke@ekhn.de\, 0157 - 54 42 90 05\nGemeinde: Ober-Ramstadt
 \nVeranstaltungstyp: Musik+Kultur\; Musik\nAngebotstyp: Musik+Kultur\; Mus
 ik
DTSTART;TZID=Europe/Berlin:20260429T193000
DTEND;TZID=Europe/Berlin:20260429T203000
LOCATION:Ober-Ramstadt: Prälat-Diehl-Haus
SUMMARY:Probe des Chors
URL:https://termine.ekhn.de/veranstaltung_im_detail38171.html
END:VEVENT
END:VCALENDAR
