BEGIN:VCALENDAR
VERSION:2.0
PRODID:-//evangelische-termine.de//NONSGML kigkonsult.se iCalcreator 2.18//
CALSCALE:GREGORIAN
METHOD:PUBLISH
X-WR-CALNAME:iCal Evangelische-Termine 20.04.2026
X-WR-CALDESC:iCalender von Evangelische-Termine (20.04.2026)
X-WR-TIMEZONE:Europe/Berlin
X-MS-OLK-FORCEINSPECTOROPEN:TRUE
BEGIN:VTIMEZONE
TZID:Europe/Berlin
BEGIN:STANDARD
DTSTART:19701025T030000
TZOFFSETFROM:+0200
TZOFFSETTO:+0100
RRULE:FREQ=YEARLY;BYDAY=-1SU;BYMONTH=10
TZNAME:CET
END:STANDARD
BEGIN:DAYLIGHT
DTSTART:19700329T020000
TZOFFSETFROM:+0100
TZOFFSETTO:+0200
RRULE:FREQ=YEARLY;BYDAY=-1SU;BYMONTH=3
TZNAME:CEST
END:DAYLIGHT
END:VTIMEZONE
BEGIN:VEVENT
UID:20260527T150000-39822@evangelische-termine.de
DTSTAMP:20260420T044710Z
DESCRIPTION:\nFür Engagierte: Ja\nVeranstaltungsort: Villa Schnitzler\nBieb
 richer Alle 42\n65187 Wiesbaden\nFormat der Veranstaltung: Präsenzveransta
 ltung\nKurzbeschreibung / Untertitel: Freiheit wovon und wofür?\nAusführli
 che Beschreibung: Theologischer Salon - das heißt: Gesprächskultur in offe
 ner\, ungezwungener Atmosphäre\, Zuhören\, mitreden\, abwägen\, nachdenken
 : 'Über Gott und die Welt'\, ausgehend vom Christentum\, aber nicht auf di
 eses beschränkt. Dr. Susanne Claußen\, Fachstelle Bildung am Evangelischen
  Dekanat Wiesbaden\, führt mit kurzen Impulsen in das jeweilige Thema ein 
 und diskutiert dann einfach mit.\nDer Theologische Salon trifft sich in de
 r Bibliothek der Villa Schnitzler (VHS Wiesbaden\, Villa Schnitzler\, Bieb
 richer Allee 42\, 65187 Wiesbaden). Er ist eine Kooperation zwischen dem E
 vangelischen Dekanat Wiesbaden und der VHS Wiesbaden.\nThema am 27. Mai: U
 nabhängig. Freiheit wovon und wofür? \nIm Juli werden die Vereinigten Staa
 ten von Amerika den 250. Jahrestag der Unabhängigkeitserklärung feiern.  W
 ir nehmen das zum Anlass\, um über Abhängigkeiten\, Ungebundenheit und Fre
 iheiten zu sprechen. Ob eher auf persönlicher\, oder eher auf gesellschaft
 lich-politischer Ebene\, hängt von den Interessen der Salon-Besucher:innen
  ab!\nVHS-Kursnummer: G17403\n\nDie Kursgebühr von 10.-€ beinhaltet Kaffee
 /Tee und Kuchen.\nAnmeldung jeweils über die VHS.\nBei Fragen: susanne.cla
 ussen@ekhn.de und 0178 2949083\nImmer 15 – 17 Uhr\n\nVorschau auf das 2. H
 albjahr:\n30. September 2026\, Misstrauen\n4. November\, Gnade und Vergebu
 ng\n16. Dezember\, Der erste hessische Christ\n20. Januar 2027\, Mystik\nI
 nternetadresse: http://www.vhs-wiesbaden.de/kurssuche/kurs/Theologischer-T
 ee-Salon-Unabhaengig-Freiheit-wovon-und-wofuer/G17403\nBild Alttext: Kreis
  mit Schrift Theologischer Salon\, darüber gedanklich verknüpfte Menschen
 \nKosten: 10\,-€ beinhaltet ein Stück Kuchen und Kaffee/Tee\nVeranstalter:
  VHS\, Villa Schnitzler und Ev. Dekanat\, Wiesbaden\nTelefonnummer bei Rüc
 kfragen zur Veranstaltung: 0178 2949083
DTSTART;TZID=Europe/Berlin:20260527T150000
DTEND;TZID=Europe/Berlin:20260527T170000
LOCATION:Wiesbaden: Villa Schnitzler
SUMMARY:Theologischer Salon - Unabhängig :: Termine im ersten Halbjahr
URL:https://termine.ekhn.de/veranstaltung_im_detail39822.html
END:VEVENT
END:VCALENDAR
