BEGIN:VCALENDAR
VERSION:2.0
PRODID:-//evangelische-termine.de//NONSGML kigkonsult.se iCalcreator 2.18//
CALSCALE:GREGORIAN
METHOD:PUBLISH
X-WR-CALNAME:iCal Evangelische-Termine 24.04.2026
X-WR-CALDESC:iCalender von Evangelische-Termine (24.04.2026)
X-WR-TIMEZONE:Europe/Berlin
X-MS-OLK-FORCEINSPECTOROPEN:TRUE
BEGIN:VTIMEZONE
TZID:Europe/Berlin
BEGIN:STANDARD
DTSTART:19701025T030000
TZOFFSETFROM:+0200
TZOFFSETTO:+0100
RRULE:FREQ=YEARLY;BYDAY=-1SU;BYMONTH=10
TZNAME:CET
END:STANDARD
BEGIN:DAYLIGHT
DTSTART:19700329T020000
TZOFFSETFROM:+0100
TZOFFSETTO:+0200
RRULE:FREQ=YEARLY;BYDAY=-1SU;BYMONTH=3
TZNAME:CEST
END:DAYLIGHT
END:VTIMEZONE
BEGIN:VEVENT
UID:20260518T180000-40150@evangelische-termine.de
DTSTAMP:20260424T140252Z
DESCRIPTION:\nFür Engagierte: Ja\nFormat der Veranstaltung: Onlineveranstal
 tung\nKurzbeschreibung / Untertitel: Fortbildungsreihe „Vielfalt verstehen
 “\nAusführliche Beschreibung: Bis heute prägt die koloniale Geschichte das
  Zusammenleben in unserer Gesellschaft. Nicht nur Menschen- und Weltbilder
  wirken fort\, auch Macht- und Herrschaftsverhältnisse nähren sich aus pos
 tkolonialen Strukturen.\n\nDieser Workshop wirft einen Blick durch die Bri
 lle unseres kolonialen Erbes – und betrachtet die gegenwärtige Realität vo
 n Diskriminierung und Ausgrenzung in unserer\nGesellschaft. Wir wollen uns
  über die Herkunft von (oft unbewussten) Denkmustern\, tief-\nsitzenden Ra
 ssismen und anderen Abwertungen klarer werden. Und einen Zugang dazu finde
 n\, wie wir sensibler mit diesem angelernten Erbe umzugehen.\nInternetadre
 sse: https://gewaltfreihandeln.org/civicrm/event/info?reset=1&id=135\nBild
  Alttext: Plakat der Online-Veranstaltung\nKosten: 30\,00 €\nVeranstalter:
  gewaltfrei handeln e.V.\, Mittelstr. 4\, 34474 Diemelstadt-Wethen\nTelefo
 nnummer bei Rückfragen zur Veranstaltung: Tel. 05694 - 8033  info@gewaltfr
 eihandeln.org
DTSTART;TZID=Europe/Berlin:20260518T180000
DTEND;TZID=Europe/Berlin:20260518T210000
LOCATION:: Ohne Ort
SUMMARY:Wie unser koloniales Erbe diskriminierende Strukturen prägt
URL:https://termine.ekhn.de/veranstaltung_im_detail40150.html
END:VEVENT
END:VCALENDAR
