BEGIN:VCALENDAR
VERSION:2.0
PRODID:-//evangelische-termine.de//NONSGML kigkonsult.se iCalcreator 2.18//
CALSCALE:GREGORIAN
METHOD:PUBLISH
X-WR-CALNAME:iCal Evangelische-Termine 22.04.2026
X-WR-CALDESC:iCalender von Evangelische-Termine (22.04.2026)
X-WR-TIMEZONE:Europe/Berlin
X-MS-OLK-FORCEINSPECTOROPEN:TRUE
BEGIN:VTIMEZONE
TZID:Europe/Berlin
BEGIN:STANDARD
DTSTART:19701025T030000
TZOFFSETFROM:+0200
TZOFFSETTO:+0100
RRULE:FREQ=YEARLY;BYDAY=-1SU;BYMONTH=10
TZNAME:CET
END:STANDARD
BEGIN:DAYLIGHT
DTSTART:19700329T020000
TZOFFSETFROM:+0100
TZOFFSETTO:+0200
RRULE:FREQ=YEARLY;BYDAY=-1SU;BYMONTH=3
TZNAME:CEST
END:DAYLIGHT
END:VTIMEZONE
BEGIN:VEVENT
UID:20260519T190000-40212@evangelische-termine.de
DTSTAMP:20260422T070116Z
DESCRIPTION:\nFür Engagierte: Nein\nVeranstaltungsort: Gemeindetreff der Ev
 . Stadtkirche Offenbach\nKirchgasse 19\n63065 Offenbach\nFormat der Verans
 taltung: Präsenzveranstaltung\nAusführliche Beschreibung: Die Brettspielgr
 uppe ist ein Angebot für Erwachsene und junge Erwachsene.\nWir spielen Bre
 tt- und Kartenspiele für Anfänger\, Gelegenheitsspieler und Fortgeschritte
 ne\, z.B. Familienspiele wie „Cacao“\, „KingDomino“ oder für Gelegenheitss
 pieler „Traumhaus“. Erfahrenen Spielern bieten wir z.B.: „Flügelschlag“ „D
 inosaur Island“\, „7 Wonders“ oder „Res Arcana“ oder auch kooperative Roll
 enspiele wie „Legende von Andor“ an.\nBild Alttext: Bunte Spielfiguren auf
  einem weißen\, mit grauen Linien durchzogenen Spielbrett\nTelefonnummer b
 ei Rückfragen zur Veranstaltung: 0152 01958969
DTSTART;TZID=Europe/Berlin:20260519T190000
DTEND;TZID=Europe/Berlin:20260519T220000
LOCATION:Offenbach: Gemeindetreff der Ev. Stadtkirche Offenbach
SUMMARY:Brettspielgruppe
URL:https://termine.ekhn.de/veranstaltung_im_detail40212.html
END:VEVENT
END:VCALENDAR
