BEGIN:VCALENDAR
VERSION:2.0
PRODID:-//evangelische-termine.de//NONSGML kigkonsult.se iCalcreator 2.18//
CALSCALE:GREGORIAN
METHOD:PUBLISH
X-WR-CALNAME:iCal Evangelische-Termine 24.04.2026
X-WR-CALDESC:iCalender von Evangelische-Termine (24.04.2026)
X-WR-TIMEZONE:Europe/Berlin
X-MS-OLK-FORCEINSPECTOROPEN:TRUE
BEGIN:VTIMEZONE
TZID:Europe/Berlin
BEGIN:STANDARD
DTSTART:19701025T030000
TZOFFSETFROM:+0200
TZOFFSETTO:+0100
RRULE:FREQ=YEARLY;BYDAY=-1SU;BYMONTH=10
TZNAME:CET
END:STANDARD
BEGIN:DAYLIGHT
DTSTART:19700329T020000
TZOFFSETFROM:+0100
TZOFFSETTO:+0200
RRULE:FREQ=YEARLY;BYDAY=-1SU;BYMONTH=3
TZNAME:CEST
END:DAYLIGHT
END:VTIMEZONE
BEGIN:VEVENT
UID:20260424T190000-40434@evangelische-termine.de
DTSTAMP:20260424T120601Z
DESCRIPTION:\nVeranstaltungsort: Ev. Kirchengemeinde Mainz- Hechtsheim\nLio
 n-Feuchtwanger-Straße 14–16.\n55129 Mainz\nAusführliche Beschreibung: Ein 
 außergewöhnliches Konzerterlebnis für den guten Zweck.\nEin besonderes Zus
 ammenspiel von Klang und Geschmack erwartet die Besucher. Unter dem Titel 
 „Orgel trifft Wein“ verbindet die Veranstaltung auf einzigartige Weise ein
  Konzert mit einer Weinprobe – und das alles zugunsten der Kinderkrippe.\n
 Drei Hechtsheimer Winzerbetriebe – das Weingut Christophorus-Hof\, das Wei
 ngut Klein und das Weingut Zehnerhof – präsentieren jeweils zwei ausgewähl
 te Weine und führen das Publikum unterhaltsam durch ihre Verkostung. Das B
 esondere: Zu jedem Wein erklingt ein passendes Orgelstück.\nDie Organistin
  Carolin Kaiser interpretiert die musikalischen Begleiter auf der einzigar
 tigen Mebold-Orgel und schafft so eine eindrucksvolle Verbindung zwischen 
 Geschmack und Klang. Die Zuhörer dürfen sich auf ein sinnliches Erlebnis f
 reuen\, bei dem sich Musik und Wein auf ungewöhnliche Weise ergänzen.\nDer
  Eintritt ist frei\, Spenden zugunsten der Kinderkrippe sind jedoch herzli
 ch willkommen.\nIm Anschluss an die Verkostung lädt eine gemeinsame Runde 
 dazu ein\, die präsentierten Weine weiter zu genießen und bei Interesse au
 ch zu erwerben. Zudem haben die Besucher die Gelegenheit\, einen Blick hin
 ter die Kulissen der „Königin der Instrumente“ zu werfen: Carolin Kaiser g
 ibt spannende Einblicke und Erläuterungen direkt an der Orgel.
DTSTART;TZID=Europe/Berlin:20260424T190000
DTEND;TZID=Europe/Berlin:20260424T203000
LOCATION:Mainz: Ev. Kirchengemeinde Mainz- Hechtsheim
SUMMARY:Orgel trifft Wein
URL:https://termine.ekhn.de/veranstaltung_im_detail40434.html
END:VEVENT
END:VCALENDAR
