BEGIN:VCALENDAR
VERSION:2.0
PRODID:-//evangelische-termine.de//NONSGML kigkonsult.se iCalcreator 2.18//
CALSCALE:GREGORIAN
METHOD:PUBLISH
X-WR-CALNAME:iCal Evangelische-Termine 21.04.2026
X-WR-CALDESC:iCalender von Evangelische-Termine (21.04.2026)
X-WR-TIMEZONE:Europe/Berlin
X-MS-OLK-FORCEINSPECTOROPEN:TRUE
BEGIN:VTIMEZONE
TZID:Europe/Berlin
BEGIN:STANDARD
DTSTART:19701025T030000
TZOFFSETFROM:+0200
TZOFFSETTO:+0100
RRULE:FREQ=YEARLY;BYDAY=-1SU;BYMONTH=10
TZNAME:CET
END:STANDARD
BEGIN:DAYLIGHT
DTSTART:19700329T020000
TZOFFSETFROM:+0100
TZOFFSETTO:+0200
RRULE:FREQ=YEARLY;BYDAY=-1SU;BYMONTH=3
TZNAME:CEST
END:DAYLIGHT
END:VTIMEZONE
BEGIN:VEVENT
UID:20260620T190000-40458@evangelische-termine.de
DTSTAMP:20260421T160856Z
DESCRIPTION:\nVeranstaltungsort: Schanzenhütte Weinolsheim\n55278 Weinolshe
 im\nKurzbeschreibung / Untertitel: Gottesdienst mit Angeboten für alle Alt
 ersgruppen und gemütlichem Beisammensein\nAngaben zur Barrierefreiheit: Ab
 holung oder Fahrdienst kann bei Bedarf organisiert werden
DTSTART;TZID=Europe/Berlin:20260620T190000
DTEND;TZID=Europe/Berlin:20260620T200000
LOCATION:Weinolsheim: Schanzenhütte Weinolsheim
SUMMARY:Alles Neu?! MittSommerGottesdienst am 20. Juni 2026 :: Nachbarschaf
 tsgottesdienst an der Schanzenhütte Weinolsheim
URL:https://termine.ekhn.de/veranstaltung_im_detail40458.html
END:VEVENT
END:VCALENDAR
