BEGIN:VCALENDAR
VERSION:2.0
PRODID:-//evangelische-termine.de//NONSGML kigkonsult.se iCalcreator 2.18//
CALSCALE:GREGORIAN
METHOD:PUBLISH
X-WR-CALNAME:iCal Evangelische-Termine 21.04.2026
X-WR-CALDESC:iCalender von Evangelische-Termine (21.04.2026)
X-WR-TIMEZONE:Europe/Berlin
X-MS-OLK-FORCEINSPECTOROPEN:TRUE
BEGIN:VTIMEZONE
TZID:Europe/Berlin
BEGIN:STANDARD
DTSTART:19701025T030000
TZOFFSETFROM:+0200
TZOFFSETTO:+0100
RRULE:FREQ=YEARLY;BYDAY=-1SU;BYMONTH=10
TZNAME:CET
END:STANDARD
BEGIN:DAYLIGHT
DTSTART:19700329T020000
TZOFFSETFROM:+0100
TZOFFSETTO:+0200
RRULE:FREQ=YEARLY;BYDAY=-1SU;BYMONTH=3
TZNAME:CEST
END:DAYLIGHT
END:VTIMEZONE
BEGIN:VEVENT
UID:20260423T190000-40932@evangelische-termine.de
DTSTAMP:20260421T210115Z
DESCRIPTION:\nFür Engagierte: Nein\nVeranstaltungsort: Gemeindesaal der Eva
 ngelischen Kirche Dieburg\nFrankfurter Straße 3\n64807 Dieburg\nFormat der
  Veranstaltung: Präsenzveranstaltung\nAusführliche Beschreibung: Der Diebu
 rger Karlheinz Braun ist bekannt durch seine zahlreichen Veröffentlichunge
 n zu Teilaspekten Dieburger Geschichte wie zum Beispiel die „Hausgeschicht
 en“ zum „Mainzer Hof“ und das Haus „Markt 13“. Er war hauptverantwortlich 
 für die Herausgabe des Buches „500 Jahre Dieburger Fasnacht“. Viele Diebur
 gerinnen und Dieburger erinnern sich bestimmt noch an seine Auftritte bei 
 der Dibboijer Fasenacht als „Verrer Gunkes“.\n\nBraun hat eine große Zahl 
 Gedichte verfasst und so manches Märchen umgeschrieben in „Dibboijerisch“.
  Für seinen Einsatz um den Erhalt der Mundart hat er 2025 die Ehrenauszeic
 hnung „Kaiserturm – ein Herz für die Mundart“ der Mundartfreunde Südhessen
  erhalten.\n\nIn seinem Vortrag beim Männertreff Dieburg führt Karlheinz B
 raun durch die bewegte Geschichte Dieburgs von den vorgeschichtlichen Anfä
 ngen über die Römerzeit und das Mittelalter bis zur heutigen Zeit mit eine
 m besonderen Augenmerk auf die Fastnacht\, die bis 1508 zurückreicht. Er e
 rzählt von vielen historischen Begebenheiten und Anekdoten und am Ende auc
 h einiges in Mundart.\n\nFrauen sind wie immer zu allen Veranstaltungen he
 rzlich eingeladen.\n\nUnterstützt wird der Männertreff Dieburg durch die H
 ermann Schlegel-Stiftung der EKHN.\nKosten: keine\nVeranstalter: Evangelis
 che Kirchengemeinde Dieburger Land
DTSTART;TZID=Europe/Berlin:20260423T190000
DTEND;TZID=Europe/Berlin:20260423T210000
LOCATION:Dieburg: Gemeindesaal der Evangelischen Kirche Dieburg
SUMMARY:Männertreff Dieburg: Geschichte Dieburgs
URL:https://termine.ekhn.de/veranstaltung_im_detail40932.html
END:VEVENT
END:VCALENDAR
