BEGIN:VCALENDAR
VERSION:2.0
PRODID:-//evangelische-termine.de//NONSGML kigkonsult.se iCalcreator 2.18//
CALSCALE:GREGORIAN
METHOD:PUBLISH
X-WR-CALNAME:iCal Evangelische-Termine 25.04.2026
X-WR-CALDESC:iCalender von Evangelische-Termine (25.04.2026)
X-WR-TIMEZONE:Europe/Berlin
X-MS-OLK-FORCEINSPECTOROPEN:TRUE
BEGIN:VTIMEZONE
TZID:Europe/Berlin
BEGIN:STANDARD
DTSTART:19701025T030000
TZOFFSETFROM:+0200
TZOFFSETTO:+0100
RRULE:FREQ=YEARLY;BYDAY=-1SU;BYMONTH=10
TZNAME:CET
END:STANDARD
BEGIN:DAYLIGHT
DTSTART:19700329T020000
TZOFFSETFROM:+0100
TZOFFSETTO:+0200
RRULE:FREQ=YEARLY;BYDAY=-1SU;BYMONTH=3
TZNAME:CEST
END:DAYLIGHT
END:VTIMEZONE
BEGIN:VEVENT
UID:20260506T190000-41202@evangelische-termine.de
DTSTAMP:20260425T172135Z
DESCRIPTION:\nFür Engagierte: Nein\nFormat der Veranstaltung: Onlineveranst
 altung\nAusführliche Beschreibung: In der Reihe „Um 7 – Aktuelles im Gespr
 äch“ – Dialog für eine Stunde am Mittwoch\, 6. Mai 2026\, von 19 bis 20 Uh
 r spricht Andreas Goetze vom Zentrum Oekumene mit Pfarrerin Anja Vollendor
 f zum Thema: 'Frieden wagen in herausfordernden Zeiten'.\n\nPfarrerin Anja
  Vollendorf ist Vorsitzende des ökumenischen friedenkirchlichen Netzwerks 
 'Church and Peace' und Mitglied im Laurentiuskonvent\, stellvertretende De
 kanin im Evangelischen Dekanat an der Dill und Stadtkirchenpfarrerin in He
 rborn in der Evangelischen Kirche in Hessen und Nassau (EKHN).\n\nFrieden 
 suchen in konfliktreichen Zeiten – wie kann das gehen? In Zeiten\, in dene
 n Krieg von autokratischen Herrschern als Mittel der Politik eingesetzt wi
 rd\, wird eine pazifistische Haltung vielfach als naiv angesehen. Sicherhe
 it durch Aufrüstung ist stärker in den Mittelpunkt gerückt. Das gilt auch 
 für die umstrittene neue Friedensdenkschrift der Evangelischen Kirche in D
 eutschland (EKD) mit dem Titel „Welt in Unordnung – Gerechter Friede im Bl
 ick. Evangelische Friedensethik angesichts neuer Herausforderungen“. \n\nP
 assen der notwendige Schutz vor Gewalt – auch militärisch – und eine jesua
 nische Friedensethik zusammen? Was sind Bedingungen für den Weg hin zu ein
 em gerechten Frieden? Wie können in einer Welt in Unordnung Gewalt und ihr
 e Strukturen eingedämmt werden für eine lebenswerte Zukunft?\n\nModeration
 : Dr. Andreas Goetze\, Zentrum Oekumene\n\nZoom-Link: https://zentrum-oeku
 mene-de.zoom.us/j/64020608278?pwd=8aHjr1LX5WHbjCcw3LtAPTbZejhVbc.1\nMeetin
 g-ID: 640 2060 8278\nKenncode: 123249\nSchnelleinwahl mobil +496950500951
 \n\nZielgruppen: Lehrkräfte\, Gemeindepädagog*innen\, Pfarrer*innen\, Past
 oralreferent*innen\, Diakon*innen\, Haupt- und Ehrenamtliche in der Jugend
 - und Sozialarbeit und alle an Fragen zum Nahen Osten und an interreligiös
 en Themen und Gesprächsformaten Interessierte\n\nVeranstalter: Zentrum Öku
 mene der EKHN und EKKW in Kooperation mit der Katholischen Erwachsenenbild
 ung im Bistum Limburg (KEB Diözesan-Bildungswerk) und dem Religionspädagog
 isches Institut der EKKW und EKHN\nInternetadresse: https://zentrum-oekume
 ne-de.zoom.us/j/64020608278?pwd=8aHjr1LX5WHbjCcw3LtAPTbZejhVbc.1
DTSTART;TZID=Europe/Berlin:20260506T190000
DTEND;TZID=Europe/Berlin:20260506T200000
LOCATION:: Ohne Ort
SUMMARY:Online: Frieden wagen :: Andreas Goetze im Gespräch mit Anja Vollen
 dorf
URL:https://termine.ekhn.de/veranstaltung_im_detail41202.html
END:VEVENT
END:VCALENDAR
