BEGIN:VCALENDAR
VERSION:2.0
PRODID:-//evangelische-termine.de//NONSGML kigkonsult.se iCalcreator 2.18//
CALSCALE:GREGORIAN
METHOD:PUBLISH
X-WR-CALNAME:iCal Evangelische-Termine 23.04.2026
X-WR-CALDESC:iCalender von Evangelische-Termine (23.04.2026)
X-WR-TIMEZONE:Europe/Berlin
X-MS-OLK-FORCEINSPECTOROPEN:TRUE
BEGIN:VTIMEZONE
TZID:Europe/Berlin
BEGIN:STANDARD
DTSTART:19701025T030000
TZOFFSETFROM:+0200
TZOFFSETTO:+0100
RRULE:FREQ=YEARLY;BYDAY=-1SU;BYMONTH=10
TZNAME:CET
END:STANDARD
BEGIN:DAYLIGHT
DTSTART:19700329T020000
TZOFFSETFROM:+0100
TZOFFSETTO:+0200
RRULE:FREQ=YEARLY;BYDAY=-1SU;BYMONTH=3
TZNAME:CEST
END:DAYLIGHT
END:VTIMEZONE
BEGIN:VEVENT
UID:20260514T110000-41214@evangelische-termine.de
DTSTAMP:20260423T115833Z
DESCRIPTION:\nFür Engagierte: Nein\nVeranstaltungsort: Ev. Gemeindehaus Zwi
 ngel\nAm Zwingel 3\n35683 Dillenburg\nFormat der Veranstaltung: Präsenzver
 anstaltung\nKurzbeschreibung / Untertitel: mit Mittagessen und Sternenwand
 erung\nAusführliche Beschreibung: Die Evangelische Gesamtkirchengemeinde u
 m den Wilhelmsturm lädt zur Sternenwanderung aus den umliegenden Orten und
  zu einem Open Air-Gottesdienst an Christi Himmelfahrt (Donnerstag\, 14. M
 ai 2026) auf den Volksbank-Parkplatz hinter dem Evangelischen Gemeindehaus
  Zwingel in Dillenburg ein. Der Gottesdienst beginnt um 11 Uhr\, es wird d
 anach ein gemeinsames Mittagessen angeboten. \n\nWer gut zu Fuß ist\, kann
  sich den Sternwanderungen in den Ortsteilen anschließen: In Eibach am Dor
 fplatz um 9.30 Uhr\, in Nanzenbach am Ev. Gemeindehaus (Hauptstraße) um 8.
 30 Uhr\, in Niederscheld an der Ev. Kirche (Dorfmitte) um 9.30 Uhr und in 
 Oberscheld ab dem Ev. Gemeindehaus (Lahn-Schelde-Straße) um 8.30 Uhr.
DTSTART;TZID=Europe/Berlin:20260514T110000
DTEND;TZID=Europe/Berlin:20260514T130000
LOCATION:Dillenburg: Ev. Gemeindehaus Zwingel
SUMMARY:Siebenschön an Himmelfahrt :: Open Air-Gottesdienst in Dillenburg
URL:https://termine.ekhn.de/veranstaltung_im_detail41214.html
END:VEVENT
END:VCALENDAR
