BEGIN:VCALENDAR
VERSION:2.0
PRODID:-//evangelische-termine.de//NONSGML kigkonsult.se iCalcreator 2.18//
CALSCALE:GREGORIAN
METHOD:PUBLISH
X-WR-CALNAME:iCal Evangelische-Termine 23.04.2026
X-WR-CALDESC:iCalender von Evangelische-Termine (23.04.2026)
X-WR-TIMEZONE:Europe/Berlin
X-MS-OLK-FORCEINSPECTOROPEN:TRUE
BEGIN:VTIMEZONE
TZID:Europe/Berlin
BEGIN:STANDARD
DTSTART:19701025T030000
TZOFFSETFROM:+0200
TZOFFSETTO:+0100
RRULE:FREQ=YEARLY;BYDAY=-1SU;BYMONTH=10
TZNAME:CET
END:STANDARD
BEGIN:DAYLIGHT
DTSTART:19700329T020000
TZOFFSETFROM:+0100
TZOFFSETTO:+0200
RRULE:FREQ=YEARLY;BYDAY=-1SU;BYMONTH=3
TZNAME:CEST
END:DAYLIGHT
END:VTIMEZONE
BEGIN:VEVENT
UID:20260509T100000-41218@evangelische-termine.de
DTSTAMP:20260423T115828Z
DESCRIPTION:\nFür Engagierte: Nein\nVeranstaltungsort: CVJM Heim Eibach\nWe
 ihergarten 17\n35689 Dillenburg-Eibach\nFormat der Veranstaltung: Präsenzv
 eranstaltung\nKurzbeschreibung / Untertitel: zugunsten eines guten Zwecks
 \nAusführliche Beschreibung: Der Bücherflohmarkt bietet vom Kinderbuch\, R
 oman und Thriller bis hin zum Kochbuch alles an. Auch Tonie-Figuren sind i
 m Sortiment. Damit die Büchersuche nicht hungrig macht\, gibt es leckere F
 rikadellen und Leberkäse. Auch für Waffeln und Getränke ist gesorgt. Es wi
 rd um Spenden gebeten\, die einem sozialen Zweck zugute kommen. In diesem 
 Jahr soll der Elternverein für Leukämie- und krebskranke Kinder in Gießen 
 unterstützt werden.\n\nWer gut erhaltene Bücher für den Basar spenden möch
 te\, wende sich bitte mit einer Nachricht an Anni Scheiter unter buecherfl
 ohmarkt-eibach@gmx.de\nVeranstalter: CVJM Eibach
DTSTART;TZID=Europe/Berlin:20260509T100000
DTEND;TZID=Europe/Berlin:20260509T170000
LOCATION:Dillenburg-Eibach: CVJM Heim Eibach
SUMMARY:4. Eibacher Bücherflohmarkt :: Vom Kinderbuch bis zum Thriller 
URL:https://termine.ekhn.de/veranstaltung_im_detail41218.html
END:VEVENT
END:VCALENDAR
