BEGIN:VCALENDAR
VERSION:2.0
PRODID:-//evangelische-termine.de//NONSGML kigkonsult.se iCalcreator 2.18//
CALSCALE:GREGORIAN
METHOD:PUBLISH
X-WR-CALNAME:iCal Evangelische-Termine 23.04.2026
X-WR-CALDESC:iCalender von Evangelische-Termine (23.04.2026)
X-WR-TIMEZONE:Europe/Berlin
X-MS-OLK-FORCEINSPECTOROPEN:TRUE
BEGIN:VTIMEZONE
TZID:Europe/Berlin
BEGIN:STANDARD
DTSTART:19701025T030000
TZOFFSETFROM:+0200
TZOFFSETTO:+0100
RRULE:FREQ=YEARLY;BYDAY=-1SU;BYMONTH=10
TZNAME:CET
END:STANDARD
BEGIN:DAYLIGHT
DTSTART:19700329T020000
TZOFFSETFROM:+0100
TZOFFSETTO:+0200
RRULE:FREQ=YEARLY;BYDAY=-1SU;BYMONTH=3
TZNAME:CEST
END:DAYLIGHT
END:VTIMEZONE
BEGIN:VEVENT
UID:20260514T103000-41221@evangelische-termine.de
DTSTAMP:20260423T115930Z
DESCRIPTION:\nFür Engagierte: Nein\nVeranstaltungsort: Ev. Kirche Manderbac
 h\nLanggasse / Hauptstraße\n35685 Dillenburg-Manderbach\nFormat der Verans
 taltung: Präsenzveranstaltung\nAusführliche Beschreibung: An Christi Himme
 lfahrt (Donnerstag\, 14. Mai) lädt die Gemeinde zu einem Freiluft-Gottesdi
 enst in Dillenburg-Manderbach ein. Beginn ist um 10.30 Uhr am Alten Schulh
 of in Manderbach. Den Gottesdienst gestalten Pfarrer Paul-Ulrich Rabe und 
 die Posaunenbläser aus den umliegenden Gemeinden. Im Anschluss wird zu ein
 em gemeinsamen Essen eingeladen.
DTSTART;TZID=Europe/Berlin:20260514T103000
DTEND;TZID=Europe/Berlin:20260514T114500
LOCATION:Dillenburg-Manderbach: Ev. Kirche Manderbach
SUMMARY:Freiluft-Gottesdienst in Manderbach :: auf dem Alten Schulhof neben
  der Kirche 
URL:https://termine.ekhn.de/veranstaltung_im_detail41221.html
END:VEVENT
END:VCALENDAR
