BEGIN:VCALENDAR
VERSION:2.0
PRODID:-//evangelische-termine.de//NONSGML kigkonsult.se iCalcreator 2.18//
CALSCALE:GREGORIAN
METHOD:PUBLISH
X-WR-CALNAME:iCal Evangelische-Termine 24.04.2026
X-WR-CALDESC:iCalender von Evangelische-Termine (24.04.2026)
X-WR-TIMEZONE:Europe/Berlin
X-MS-OLK-FORCEINSPECTOROPEN:TRUE
BEGIN:VTIMEZONE
TZID:Europe/Berlin
BEGIN:STANDARD
DTSTART:19701025T030000
TZOFFSETFROM:+0200
TZOFFSETTO:+0100
RRULE:FREQ=YEARLY;BYDAY=-1SU;BYMONTH=10
TZNAME:CET
END:STANDARD
BEGIN:DAYLIGHT
DTSTART:19700329T020000
TZOFFSETFROM:+0100
TZOFFSETTO:+0200
RRULE:FREQ=YEARLY;BYDAY=-1SU;BYMONTH=3
TZNAME:CEST
END:DAYLIGHT
END:VTIMEZONE
BEGIN:VEVENT
UID:20260424T170000-41292@evangelische-termine.de
DTSTAMP:20260424T120601Z
DESCRIPTION:\nVeranstaltungsort: Tritonplatz\, neben Staatstheater\nGutenbe
 rgplatz\n Mainz\nAusführliche Beschreibung: Den kreativen Abschluss der Fa
 shion Revolution Week bildet die Upcycling-Modenschau vor dem Staatstheate
 r Mainz am Tritonplatz. Auf dem Laufsteg präsentieren die Teilnehmer:innen
  eines Mitmachen! -Clubs von justmainz ihre selbst gestalteten Looks. Hier
  wird veranschaulicht\, was aus ausgedienter Kleidung entstehen kann – Mod
 e als Statement für Nachhaltigkeit und kollektives Handeln.
DTSTART;TZID=Europe/Berlin:20260424T170000
DTEND;TZID=Europe/Berlin:20260424T200000
LOCATION:Mainz: Tritonplatz\, neben Staatstheater
SUMMARY:Upcycling-Modenschau – das große Finale der FRW 2026!
URL:https://termine.ekhn.de/veranstaltung_im_detail41292.html
END:VEVENT
END:VCALENDAR
