BEGIN:VCALENDAR
VERSION:2.0
PRODID:-//evangelische-termine.de//NONSGML kigkonsult.se iCalcreator 2.18//
CALSCALE:GREGORIAN
METHOD:PUBLISH
X-WR-CALNAME:iCal Evangelische-Termine 20.04.2026
X-WR-CALDESC:iCalender von Evangelische-Termine (20.04.2026)
X-WR-TIMEZONE:Europe/Berlin
X-MS-OLK-FORCEINSPECTOROPEN:TRUE
BEGIN:VTIMEZONE
TZID:Europe/Berlin
BEGIN:STANDARD
DTSTART:19701025T030000
TZOFFSETFROM:+0200
TZOFFSETTO:+0100
RRULE:FREQ=YEARLY;BYDAY=-1SU;BYMONTH=10
TZNAME:CET
END:STANDARD
BEGIN:DAYLIGHT
DTSTART:19700329T020000
TZOFFSETFROM:+0100
TZOFFSETTO:+0200
RRULE:FREQ=YEARLY;BYDAY=-1SU;BYMONTH=3
TZNAME:CEST
END:DAYLIGHT
END:VTIMEZONE
BEGIN:VEVENT
UID:20260424T190000-41364@evangelische-termine.de
DTSTAMP:20260420T112742Z
DESCRIPTION:\nVeranstaltungsort: Gemeindehaus Schaafheim\nLutherstraße 3\n6
 4850 Schaafheim\nAusführliche Beschreibung: Gemütlich zusammensitzen\, ein
  Spiel spielen\, etwas trinken und knabbern. Miteinander reden\, entspanne
 n\, sich besser kennen lernen. Dafür ist Zeit im „Scheffemer Wohnzimmer“ a
 m Freitag\, den 24. April 2026\, ab 19 Uhr im Obergeschoss des Evangelisch
 en Gemeindehauses in der Lutherstr. 3 in Schaafheim.
DTSTART;TZID=Europe/Berlin:20260424T190000
DTEND;TZID=Europe/Berlin:20260424T200000
LOCATION:Schaafheim: Gemeindehaus Schaafheim
SUMMARY:Scheffemer Wohnzimmer
URL:https://termine.ekhn.de/veranstaltung_im_detail41364.html
END:VEVENT
END:VCALENDAR
