BEGIN:VCALENDAR
VERSION:2.0
PRODID:-//evangelische-termine.de//NONSGML kigkonsult.se iCalcreator 2.18//
CALSCALE:GREGORIAN
METHOD:PUBLISH
X-WR-CALNAME:iCal Evangelische-Termine 24.04.2026
X-WR-CALDESC:iCalender von Evangelische-Termine (24.04.2026)
X-WR-TIMEZONE:Europe/Berlin
X-MS-OLK-FORCEINSPECTOROPEN:TRUE
BEGIN:VTIMEZONE
TZID:Europe/Berlin
BEGIN:STANDARD
DTSTART:19701025T030000
TZOFFSETFROM:+0200
TZOFFSETTO:+0100
RRULE:FREQ=YEARLY;BYDAY=-1SU;BYMONTH=10
TZNAME:CET
END:STANDARD
BEGIN:DAYLIGHT
DTSTART:19700329T020000
TZOFFSETFROM:+0100
TZOFFSETTO:+0200
RRULE:FREQ=YEARLY;BYDAY=-1SU;BYMONTH=3
TZNAME:CEST
END:DAYLIGHT
END:VTIMEZONE
BEGIN:VEVENT
UID:20260424T200000-41365@evangelische-termine.de
DTSTAMP:20260424T020113Z
DESCRIPTION:\nFür Engagierte: Nein\nVeranstaltungsort: Evangelisches Gemein
 dehaus Groß-Umstadt\nPfälzer Gasse 14\n64823 Groß-Umstadt\nFormat der Vera
 nstaltung: Präsenzveranstaltung\nAusführliche Beschreibung: Der Abend in d
 er Alten Kollektur beginnt mit der Jazzkollektur\, die im ersten Set mit d
 em Trio Karsten Gollnow (git)\, Hans Goll (dr) und Frank Primozic (b) gewo
 hnt launig\, mit vollem musikalischen Einsatz und großer Spielfreude ein p
 aar schöne Jazz-Standards zum Besten gibt.\n\nIm zweiten Teil des Abends p
 räsentiert die wunderbare Juliana da Silva  mit ihrer hochkarätig besetzte
 n Band ihr  »Brasilian Jazz Projekt«!\n \nJuliana da Silva - Vocals\nTom S
 chlüter - Piano\nPablo Saez - Drums\nJean Louc Cammas - Bass\n\nMit geschl
 ossenen Augen die Verbindung zum Publikum finden – das gelingt nicht jeder
  Sängerin so bemerkenswert wie Juliana da Silva. Alles eine Frage der Ausd
 rucksstärke\, ist die Brasilianerin überzeugt. Und nicht nur sie: Die Fran
 kfurter Allgemeine Zeitung bezeichnete ihre Auftritte als »musikalische Ga
 nzkörpersinnlichkeit«. »Es ist alles: Ausdruck\, Gefühl\, Verarbeitung von
  Emotionen«\, sagt die Sängerin über ihre Musik. Ihre Musik zeigt mehr als
  die faszinierende Ausdrucksstärke der Bandleaderin: Kein Song\, der nicht
  die Soli des Instrumentaltrios in den Vordergrund stellt. Mal individuell
  und vereinzelt mit scheppernden Drums\, wogendem Bass und virtuosem Klavi
 er\, dann wieder als Team\, quirlig wippend oder sachte verebbend – das Ge
 meinschaftsgefühl gewinnt. Dass ihre Songs immer auf Portugiesisch sind\, 
 vermindert nicht ihre Magie: „Die Menschen verstehen kein Wort von dem\, w
 as ich singe\, aber sie verstehen trotzdem\, was der Song ihnen sagen will
 “\, sagt da Silva über ihre Musik. Es ist eben alles eine Frage des Ausdru
 cks. »Die Brasilianerin Juliana da Silva hat ein Händchen dafür\, brasilia
 nische Tradition und den Facettenreichtum des Jazz zu einer eigenen musika
 lischen Handschrift zu entwickeln.« (hr2-kultur) »Die Sängerin hat hier ei
 n wahres Starensemble aus Interpreten der Música Popular Brasileira wie de
 s Jazz zusammengebracht« (Frankfurter Allgemeine)\n\nFür das leibliche Woh
 l mit den beliebten Jazzbroten\, Jazznüsschen\, Wein und anderen kühlen Ge
 tränken sorgt wie immer das Jazzkonfekt Team.\nEintritt frei\, Spenden erw
 ünscht!\nKosten: keine\nVeranstalter: Evangelische Kirchengemeinde Groß-Um
 stadt
DTSTART;TZID=Europe/Berlin:20260424T200000
DTEND;TZID=Europe/Berlin:20260424T220000
LOCATION:Groß-Umstadt: Evangelisches Gemeindehaus Groß-Umstadt
SUMMARY:JazzKonfekt mit Juliana da Silva
URL:https://termine.ekhn.de/veranstaltung_im_detail41365.html
END:VEVENT
END:VCALENDAR
