BEGIN:VCALENDAR
VERSION:2.0
PRODID:-//evangelische-termine.de//NONSGML kigkonsult.se iCalcreator 2.18//
CALSCALE:GREGORIAN
METHOD:PUBLISH
X-WR-CALNAME:iCal Evangelische-Termine 22.04.2026
X-WR-CALDESC:iCalender von Evangelische-Termine (22.04.2026)
X-WR-TIMEZONE:Europe/Berlin
X-MS-OLK-FORCEINSPECTOROPEN:TRUE
BEGIN:VTIMEZONE
TZID:Europe/Berlin
BEGIN:STANDARD
DTSTART:19701025T030000
TZOFFSETFROM:+0200
TZOFFSETTO:+0100
RRULE:FREQ=YEARLY;BYDAY=-1SU;BYMONTH=10
TZNAME:CET
END:STANDARD
BEGIN:DAYLIGHT
DTSTART:19700329T020000
TZOFFSETFROM:+0100
TZOFFSETTO:+0200
RRULE:FREQ=YEARLY;BYDAY=-1SU;BYMONTH=3
TZNAME:CEST
END:DAYLIGHT
END:VTIMEZONE
BEGIN:VEVENT
UID:20260426T110000-41371@evangelische-termine.de
DTSTAMP:20260422T130429Z
DESCRIPTION:\nFür Engagierte: Nein\nVeranstaltungsort: Evangelisches Gemein
 dehaus Sulzbach (Taunus)\nPlatz an der Linde 4\n65843 Sulzbach (Taunus)\nF
 ormat der Veranstaltung: Präsenzveranstaltung\nAusführliche Beschreibung: 
 Mit den Kinderchören unter der Leitung von Capucine Payan. \nAnschließend 
 Pizzaessen
DTSTART;TZID=Europe/Berlin:20260426T110000
DTEND;TZID=Europe/Berlin:20260426T120000
LOCATION:Sulzbach (Taunus): Evangelisches Gemeindehaus Sulzbach (Taunus)
SUMMARY:Gottesdienst für Groß und Klein :: 'Mia\, Theo und die Raupe'. Team
  Familiengottesdienst
URL:https://termine.ekhn.de/veranstaltung_im_detail41371.html
END:VEVENT
END:VCALENDAR
