BEGIN:VCALENDAR
VERSION:2.0
PRODID:-//evangelische-termine.de//NONSGML kigkonsult.se iCalcreator 2.18//
CALSCALE:GREGORIAN
METHOD:PUBLISH
X-WR-CALNAME:iCal Evangelische-Termine 24.04.2026
X-WR-CALDESC:iCalender von Evangelische-Termine (24.04.2026)
X-WR-TIMEZONE:Europe/Berlin
X-MS-OLK-FORCEINSPECTOROPEN:TRUE
BEGIN:VTIMEZONE
TZID:Europe/Berlin
BEGIN:STANDARD
DTSTART:19701025T030000
TZOFFSETFROM:+0200
TZOFFSETTO:+0100
RRULE:FREQ=YEARLY;BYDAY=-1SU;BYMONTH=10
TZNAME:CET
END:STANDARD
BEGIN:DAYLIGHT
DTSTART:19700329T020000
TZOFFSETFROM:+0100
TZOFFSETTO:+0200
RRULE:FREQ=YEARLY;BYDAY=-1SU;BYMONTH=3
TZNAME:CEST
END:DAYLIGHT
END:VTIMEZONE
BEGIN:VEVENT
UID:20260426T110000-41389@evangelische-termine.de
DTSTAMP:20260424T135100Z
DESCRIPTION:\nFür Engagierte: Ja\nVeranstaltungsort: Evangelische Versöhnun
 gsgemeinde\nKirchebachstraße 44\n65191 Wiesbaden\nFormat der Veranstaltung
 : Präsenzveranstaltung\nAusführliche Beschreibung: Die 58. Zehn-Prozent-Ak
 tion läuft bereits seit Anfang April und steht unter dem Motto „Ein Strohh
 alm der Hoffnung“. Wieder sind 12 Monate Zeit\, um die selbst gesteckten Z
 iele zu erreichen: 365 Spenderinnen und Spender werden gesucht. \n\nIn ein
 er für unsere Gesellschaft schwierigen Zeit\, die von Umbrüchen und leider
  auch von kriegerischen Auseinandersetzungen in der Welt geprägt ist\, str
 eben wir nicht nach neuen Rekorden\, was die Zahl unserer Unterstützer und
  Unterstützerinnen angeht\, sondern sind vollauf zufrieden\, wenn wir bis 
 Ende März 2027 die „365“ erreichen.\n\nAuch unser diesjähriger Dankgottesd
 ienst\, der am Sonntag\, 26. April\, um 11 Uhr in der Evangelischen Versöh
 nungsgemeinde in Wiesbaden stattfindet\, beschäftigt sich mit dem „Strohha
 lm der Hoffnung“\, der für uns eher so etwas wie ein Sprungstab ist. \nWir
  starten damit auch offiziell in die 58. Zehn-Prozent-Aktion\, in deren Mi
 ttelpunkt fünf neue Projekte stehen werden.\nDen Gottesdienst gestaltet da
 s Pfarrerehepaar Stöhr.\nInternetadresse: https://www.dekanat-wiesbaden.de
 /artikel/spendenziel-erreicht?cHash=94a4cb4d97a99dc4ace21c7ecb22c887\nKost
 en: keine\nVeranstalter: Zehn-Prozent-Aktion
DTSTART;TZID=Europe/Berlin:20260426T110000
DTEND;TZID=Europe/Berlin:20260426T120000
LOCATION:Wiesbaden: Evangelische Versöhnungsgemeinde
SUMMARY:Dankgottesdienst der Zehn-Prozent-Aktion
URL:https://termine.ekhn.de/veranstaltung_im_detail41389.html
END:VEVENT
END:VCALENDAR
