BEGIN:VCALENDAR
VERSION:2.0
PRODID:-//evangelische-termine.de//NONSGML kigkonsult.se iCalcreator 2.18//
CALSCALE:GREGORIAN
METHOD:PUBLISH
X-WR-CALNAME:iCal Evangelische-Termine 19.04.2026
X-WR-CALDESC:iCalender von Evangelische-Termine (19.04.2026)
X-WR-TIMEZONE:Europe/Berlin
X-MS-OLK-FORCEINSPECTOROPEN:TRUE
BEGIN:VTIMEZONE
TZID:Europe/Berlin
BEGIN:STANDARD
DTSTART:19701025T030000
TZOFFSETFROM:+0200
TZOFFSETTO:+0100
RRULE:FREQ=YEARLY;BYDAY=-1SU;BYMONTH=10
TZNAME:CET
END:STANDARD
BEGIN:DAYLIGHT
DTSTART:19700329T020000
TZOFFSETFROM:+0100
TZOFFSETTO:+0200
RRULE:FREQ=YEARLY;BYDAY=-1SU;BYMONTH=3
TZNAME:CEST
END:DAYLIGHT
END:VTIMEZONE
BEGIN:VEVENT
UID:20260423T193000-41390@evangelische-termine.de
DTSTAMP:20260419T201836Z
DESCRIPTION:\nFür Engagierte: Ja\nVeranstaltungsort: Kulturzentrum Schlacht
 hof\nMurnaustraße 1\n65189 Wiesbaden\nFormat der Veranstaltung: Präsenzver
 anstaltung\nAusführliche Beschreibung: 'Mit Gott gegen die Demokratie - Wa
 rum Christlicher Nationalismus alle angeht' - mit Arnd Henze und Dr. Marti
 n Mencke am Donnerstag\, 23. April\, um 19.30 Uhr im Kulturzentrum Schlach
 thof (Einlass 19 Uhr).\n \nArnd Henze ist Fernsehredakteur beim WDR und Pu
 blizist. Sein kürzlich erschienenes Buch 'Mit Gott gegen die Demokratie - 
 Warum Christlicher Nationalismus alle angeht' erfuhr in kurzer Zeit eine h
 ohe öffentliche Aufmerksamkeit.\n\nDas Thema könnte aktueller nicht sein: 
 Verstörende Nachrichten aus dem Weißen Haus und dem Pentagon\, ein religiö
 s überhöhter Präsident\, ein Krieg\, der mit Kriegstheologie begründet wir
 d. \nIm Bündnis mit der Macht des US-Präsidenten hat sich der christliche 
 Nationalismus zu einer globalen Bedrohung für Demokratie und Rechtsstaat r
 adikalisiert.\n\nDer Journalist und Theologe Arnd Henze beobachtet die rel
 igiöse Landschaft der USA seit vielen Jahren. In seinem im März 2026 ersch
 ienen Buch zeigt er auf\, wie Religion zum Machtinstrument wird\, stellt z
 entrale Akteure vor\, untersucht die Strategien der Gotteskrieger und erkl
 ärt\, wie sie sich global vernetzen.\n\nIn Wiesbaden wird Arnd Henze nicht
  nur sein Buch vorstellen\, sondern im Gespräch mit Dr. Martin Mencke auch
  der Frage nachgehen\, wie weit dieser Kulturkampf auch in Deutschland sta
 ttfindet\, und was Kirche\, Politik und Zivilgesellschaft dieser unheilige
 n Allianz entgegensetzen können. \nMartin Mencke ist der Beauftragte der E
 vangelischen Kirchen in Hessen am Sitz der Landesregierung\, zuvor war er 
 Dekan in Wiesbaden.\n\nModeration: Sascha Schmidt\n\nDie Veranstaltung fin
 det statt am 23.  April um 19.30 Uhr im Kulturzentrum Schlachthof Wiesbade
 n\, Murnaustr.1. Einlass ist ab 19 Uhr. \nEintritt frei.\n\nEine Aufzeichn
 ung der Veranstaltung sowie ein Video-Interview mit dem Referenten werden 
 wie immer in der Veranstaltungsreihe „defend democracy!' im Anschluss an d
 ie Veranstaltung auf der Website momentmal.org veröffentlicht.\n\nDie geme
 insamen Reihe und Kampagne #defenddemocracy wird von der Initiative Moment
  Mal! und dem Kulturzentrum Schlachthof Wiesbaden veranstaltet\, in Kooper
 ation mit dem Evangelischen Dekanat Wiesbaden und dem Bundesprogramm “Demo
 kratie leben”.\nKosten: keine\nVeranstalter: 'Moment Mal!'\, Kulturzentrum
  Schlachthof Wiesbaden\, Ev. Dekanat Wiesbaden
DTSTART;TZID=Europe/Berlin:20260423T193000
DTEND;TZID=Europe/Berlin:20260423T213000
LOCATION:Wiesbaden: Kulturzentrum Schlachthof
SUMMARY:'Mit Gott gegen die Demokratie' :: Christlicher Nationalismus ist i
 n den USA 
URL:https://termine.ekhn.de/veranstaltung_im_detail41390.html
END:VEVENT
END:VCALENDAR
