BEGIN:VCALENDAR
VERSION:2.0
PRODID:-//evangelische-termine.de//NONSGML kigkonsult.se iCalcreator 2.18//
CALSCALE:GREGORIAN
METHOD:PUBLISH
X-WR-CALNAME:iCal Evangelische-Termine 21.04.2026
X-WR-CALDESC:iCalender von Evangelische-Termine (21.04.2026)
X-WR-TIMEZONE:Europe/Berlin
X-MS-OLK-FORCEINSPECTOROPEN:TRUE
BEGIN:VTIMEZONE
TZID:Europe/Berlin
BEGIN:STANDARD
DTSTART:19701025T030000
TZOFFSETFROM:+0200
TZOFFSETTO:+0100
RRULE:FREQ=YEARLY;BYDAY=-1SU;BYMONTH=10
TZNAME:CET
END:STANDARD
BEGIN:DAYLIGHT
DTSTART:19700329T020000
TZOFFSETFROM:+0100
TZOFFSETTO:+0200
RRULE:FREQ=YEARLY;BYDAY=-1SU;BYMONTH=3
TZNAME:CEST
END:DAYLIGHT
END:VTIMEZONE
BEGIN:VEVENT
UID:20260425T180000-41440@evangelische-termine.de
DTSTAMP:20260421T124748Z
DESCRIPTION:\nVeranstaltungsort: Ev. Kirche Dolgesheim\nGaustr. 12\n55278 D
 olgesheim\nkirchengemeinde.dolgesheim@ekhn.de\nTel.: 06733 212\nKurzbeschr
 eibung / Untertitel: Frühlingskonzert in Dolgesheim\nAusführliche Beschrei
 bung: Springtime\nIn einem bekannten Kanon heißt es: „Ein kleiner Blumenst
 rauß aus Tönen soll dir den heut’gen Tag verschönen!“ Frei nach diesem Mot
 to verschönt CHORisma das Ende zweier Frühlingswochen: Unser klingender Bl
 umenstrauß ist üppig bestück mit sanftem Tannengrün von J.S. Bach\, Evergr
 eens von den Beatles und Billy Joel\, ein paar Stacheln des „Kleinen grüne
 n Kaktus‘“ von den Comedian Harmonists und vielen weiteren Klangblüten. Di
 ese große Musik erklingt bewusst in kleinen Kirchen: Unser Debut mit dem a
 ktuellen Programm geben wir in der evangelischen Kirche Dolgesheim und füh
 ren es sodann nochmal in der katholischen Kirche Mariä Opferung in Sörgenl
 och auf\, beides optische sowie akustische Kleinode. Der Klang von CHORism
 a ist somit besonders transparent hörbar und unmittelbar erlebbar. Lassen 
 Sie sich dieses besondere Hörerlebnis nicht entgehen!\nDie Frühlingskonzer
 te finden am Samstag\, den 25. April\, um 18:00 Uhr in Dolgesheim und am F
 reitag\, den 08. Mai\, um 19:00 Uhr in Sörgenloch unter der musikalischen 
 Leitung von Sven Hanagarth statt und dauern eine knappe Stunde. Bei freiem
  Eintritt bitten wir um Spenden zugunsten der musikalischen Arbeit von CHO
 Risma. Im Anschluss findet an beiden Abenden ein kleiner Umtrunk statt. Wi
 r freuen uns auf Ihren Besuch!
DTSTART;TZID=Europe/Berlin:20260425T180000
DTEND;TZID=Europe/Berlin:20260425T190000
LOCATION:Dolgesheim: Ev. Kirche Dolgesheim
SUMMARY:Große Musik in kleinen Kirchen :: Springtime - CHORisma Frühlingsko
 nzert in Dolgesheim 
URL:https://termine.ekhn.de/veranstaltung_im_detail41440.html
END:VEVENT
END:VCALENDAR
