BEGIN:VCALENDAR
VERSION:2.0
PRODID:-//evangelische-termine.de//NONSGML kigkonsult.se iCalcreator 2.18//
CALSCALE:GREGORIAN
METHOD:PUBLISH
X-WR-CALNAME:iCal Evangelische-Termine 22.04.2026
X-WR-CALDESC:iCalender von Evangelische-Termine (22.04.2026)
X-WR-TIMEZONE:Europe/Berlin
X-MS-OLK-FORCEINSPECTOROPEN:TRUE
BEGIN:VTIMEZONE
TZID:Europe/Berlin
BEGIN:STANDARD
DTSTART:19701025T030000
TZOFFSETFROM:+0200
TZOFFSETTO:+0100
RRULE:FREQ=YEARLY;BYDAY=-1SU;BYMONTH=10
TZNAME:CET
END:STANDARD
BEGIN:DAYLIGHT
DTSTART:19700329T020000
TZOFFSETFROM:+0100
TZOFFSETTO:+0200
RRULE:FREQ=YEARLY;BYDAY=-1SU;BYMONTH=3
TZNAME:CEST
END:DAYLIGHT
END:VTIMEZONE
BEGIN:VEVENT
UID:20260612T193000-41462@evangelische-termine.de
DTSTAMP:20260422T051643Z
DESCRIPTION:\nFür Engagierte: Nein\nVeranstaltungsort: Ev. Johanneskirche O
 ffenbach\nLudwigstraße 133\n63067 Offenbach\nFormat der Veranstaltung: Prä
 senzveranstaltung\nKurzbeschreibung / Untertitel: Und jedem Anfang wohnt e
 in Zauber inne\nAusführliche Beschreibung: Vom Neuwerden\, Aufbrechen\, Su
 chen und Finden\n\nIn der Natur ist es uns wohlvertraut: In täglichen\, jä
 hrlichen bis hin zu epochalen Zyklen begleitet das Prinzip des Werdens und
  Vergehens unser Leben. Aber auch unser menschliches Dasein ist geprägt vo
 m Abschiednehmen und Neubeginn\, von der Kindheit und Jugend über die Umbr
 üche im Erwachsenenalter bis hin zum Lebensende.\nIn Musikstücken von der 
 Renaissance bis zur heutigen Zeit beleuchten die Rhein-Main-Vokalisten die
 ses Thema rund um Hermann Hesses Gedicht „Stufen“.\n\nLeitung: Peter Scher
 tler\nBild Alttext: Waldlichtung bei Nacht mit leuchtenden Glühwürmchen\nK
 osten: Eintritt frei\, Spenden erbeten.\nVeranstalter: Rhein-Main-Vokalist
 en e.V. Offenbach
DTSTART;TZID=Europe/Berlin:20260612T193000
DTEND;TZID=Europe/Berlin:20260612T210000
LOCATION:Offenbach: Ev. Johanneskirche Offenbach
SUMMARY:Chorkonzert der Rhein-Main-Vokalisten
URL:https://termine.ekhn.de/veranstaltung_im_detail41462.html
END:VEVENT
END:VCALENDAR
