BEGIN:VCALENDAR
VERSION:2.0
PRODID:-//evangelische-termine.de//NONSGML kigkonsult.se iCalcreator 2.18//
CALSCALE:GREGORIAN
METHOD:PUBLISH
X-WR-CALNAME:iCal Evangelische-Termine 22.04.2026
X-WR-CALDESC:iCalender von Evangelische-Termine (22.04.2026)
X-WR-TIMEZONE:Europe/Berlin
X-MS-OLK-FORCEINSPECTOROPEN:TRUE
BEGIN:VTIMEZONE
TZID:Europe/Berlin
BEGIN:STANDARD
DTSTART:19701025T030000
TZOFFSETFROM:+0200
TZOFFSETTO:+0100
RRULE:FREQ=YEARLY;BYDAY=-1SU;BYMONTH=10
TZNAME:CET
END:STANDARD
BEGIN:DAYLIGHT
DTSTART:19700329T020000
TZOFFSETFROM:+0100
TZOFFSETTO:+0200
RRULE:FREQ=YEARLY;BYDAY=-1SU;BYMONTH=3
TZNAME:CEST
END:DAYLIGHT
END:VTIMEZONE
BEGIN:VEVENT
UID:20260718T180000-41463@evangelische-termine.de
DTSTAMP:20260422T051633Z
DESCRIPTION:\nFür Engagierte: Nein\nVeranstaltungsort: Ev. Johanneskirche O
 ffenbach\nLudwigstraße 133\n63067 Offenbach\nFormat der Veranstaltung: Prä
 senzveranstaltung\nKurzbeschreibung / Untertitel: Sommerzeit – Reisezeit\n
 Ausführliche Beschreibung: Zu Besuch bei europäischen Komponisten\n\nDie G
 eistliche Abendmusik am Samstag\, dem 18. Juli\, nimmt die Reisezeit zum A
 nlass\, sich in europäische Metropolen zu begeben. Jürgen Blume eröffnet d
 ie musikalische Reise mit einem Slawischen Tanz von Antonin Dvořák (Prag) 
 in einer Orgelbearbeitung. Orgelbearbeitungen sind auch das Violinkonzert 
 von Albinoni (Venedig) und Griegs Sätze aus der Holberg-Suite (Bergen\, No
 rwegen). Als Originalkompositionen erklingen Orgelstücke von César Franck 
 (Paris) und Ralph Vaughan Williams (London).\n\nBirgit Ahrens (Sopran)\, d
 ie regelmäßig als Solistin in den Abendmusiken mitwirkt\, wird mit Klavier
 begleitung unter anderem geistliche Gellert-Lieder von Beethoven (Wien) un
 d den Cantico del Sole\, den Sonnengesang des Franz von Assisi in einer ro
 mantischen Vertonung des Schweizer Komponisten Hermann Suter (Basel) singe
 n.\n\nKirsten Prinz und Anna Staedler wählen wie bei den vergangenen Abend
 musiken zu dem Programm passende Texte aus\, die sie selbst vortragen.\nBi
 ld Alttext: Brauner Lederkoffer mit Reiseaufklebern auf gelbem Sand vor bl
 auem Himmel.\nKosten: Eintritt frei
DTSTART;TZID=Europe/Berlin:20260718T180000
DTEND;TZID=Europe/Berlin:20260718T190000
LOCATION:Offenbach: Ev. Johanneskirche Offenbach
SUMMARY:Geistliche Abendmusik in der Johanneskirche
URL:https://termine.ekhn.de/veranstaltung_im_detail41463.html
END:VEVENT
END:VCALENDAR
