BEGIN:VCALENDAR
VERSION:2.0
PRODID:-//evangelische-termine.de//NONSGML kigkonsult.se iCalcreator 2.18//
CALSCALE:GREGORIAN
METHOD:PUBLISH
X-WR-CALNAME:iCal Evangelische-Termine 22.04.2026
X-WR-CALDESC:iCalender von Evangelische-Termine (22.04.2026)
X-WR-TIMEZONE:Europe/Berlin
X-MS-OLK-FORCEINSPECTOROPEN:TRUE
BEGIN:VTIMEZONE
TZID:Europe/Berlin
BEGIN:STANDARD
DTSTART:19701025T030000
TZOFFSETFROM:+0200
TZOFFSETTO:+0100
RRULE:FREQ=YEARLY;BYDAY=-1SU;BYMONTH=10
TZNAME:CET
END:STANDARD
BEGIN:DAYLIGHT
DTSTART:19700329T020000
TZOFFSETFROM:+0100
TZOFFSETTO:+0200
RRULE:FREQ=YEARLY;BYDAY=-1SU;BYMONTH=3
TZNAME:CEST
END:DAYLIGHT
END:VTIMEZONE
BEGIN:VEVENT
UID:20260509T090000-41479@evangelische-termine.de
DTSTAMP:20260422T130428Z
DESCRIPTION:\nFür Engagierte: Nein\nVeranstaltungsort: Ev. Bücherei Sulzbac
 h (Taunus)\nCretzschmarstraße 6\n65843 Sulzbach (Taunus)\nFormat der Veran
 staltung: Präsenzveranstaltung\nInternetadresse: https://evangelisch-im-vo
 rtaunus.ekhn.de/artikel-1/gratis-comic-tag-2026?cHash=3d5afc6bfd065c4a9d4f
 4d0480a57767
DTSTART;TZID=Europe/Berlin:20260509T090000
DTEND;TZID=Europe/Berlin:20260509T130000
LOCATION:Sulzbach (Taunus): Ev. Bücherei Sulzbach (Taunus)
SUMMARY:Gratis-Comic-Tag :: in der evangelischen Bücherei Sulzbach (Taunus)
URL:https://termine.ekhn.de/veranstaltung_im_detail41479.html
END:VEVENT
END:VCALENDAR
