BEGIN:VCALENDAR
VERSION:2.0
PRODID:-//evangelische-termine.de//NONSGML kigkonsult.se iCalcreator 2.18//
CALSCALE:GREGORIAN
METHOD:PUBLISH
X-WR-CALNAME:iCal Evangelische-Termine 22.04.2026
X-WR-CALDESC:iCalender von Evangelische-Termine (22.04.2026)
X-WR-TIMEZONE:Europe/Berlin
X-MS-OLK-FORCEINSPECTOROPEN:TRUE
BEGIN:VTIMEZONE
TZID:Europe/Berlin
BEGIN:STANDARD
DTSTART:19701025T030000
TZOFFSETFROM:+0200
TZOFFSETTO:+0100
RRULE:FREQ=YEARLY;BYDAY=-1SU;BYMONTH=10
TZNAME:CET
END:STANDARD
BEGIN:DAYLIGHT
DTSTART:19700329T020000
TZOFFSETFROM:+0100
TZOFFSETTO:+0200
RRULE:FREQ=YEARLY;BYDAY=-1SU;BYMONTH=3
TZNAME:CEST
END:DAYLIGHT
END:VTIMEZONE
BEGIN:VEVENT
UID:20260618T193000-41481@evangelische-termine.de
DTSTAMP:20260422T051650Z
DESCRIPTION:\nFür Engagierte: Nein\nVeranstaltungsort: Ev. Johanneskirche O
 ffenbach\nLudwigstraße 133\n63067 Offenbach\nFormat der Veranstaltung: Prä
 senzveranstaltung\nKurzbeschreibung / Untertitel: Neue Raumklangerfahrunge
 n in der Johanneskirche\nAusführliche Beschreibung: Jürgen Blume und Luca 
 Ganz gestalten in der Johanneskirche eine etwa 45- bis 60-minütige Improvi
 sation für Orgel\, Perkussion und Bass. \n\nAusgehend von kompositorischen
  Impulsen der musikalischen Moderne entfaltet sich eine klangliche Untersu
 chung des Kirchenraums. Anstöße kommen von den dichten Klangflächenkomposi
 tionen György Ligetis\, den polytonalen Kompositionen Igor Strawinskys\, i
 n denen ein Orchester wie ein Schlagzeug wirkt\, und von der Ästhetik der 
 Musique concrète\, in der konkrete Klänge aufgezeichnet und elektronisch v
 erfremdet werden. Die spezifische Akustik der Johanneskirche wird dabei ni
 cht nur als Resonanzraum\, sondern als integraler Bestandteil der musikali
 schen Praxis begriffen. \n\nIm Zusammenspiel der Instrumente entsteht ein 
 prozessuales Gefüge\, das die Grenzen zwischen Komposition\, Improvisation
  und Raumklang bewusst verschiebt. Ziel ist es\, die materiellen und klang
 lichen Eigenschaften des Ortes in eine verdichtete Hörerfahrung zu überfüh
 ren\, in der Architektur und Musik in ein wechselseitiges Schwingen gerate
 n.\n\nDie musikalische Performance ist die erste Veranstaltung im Rahmen d
 er Reihe SonicSites ‒ einer Kooperation von Luca Ganz\, der Stadt- und Joh
 annesgemeinde und der World Design Capital Frankfurt Rhein-Main 2026. \n\n
 Donnerstag\, 18. Juni 2026\, 19:30 Uhr\, Ev. Johanneskirche Offenbach\nBil
 d Alttext: Collage mit Notenschlüssel und Noten\, die zwischen den schwarz
 en Lampen der Johanneskirche vor den in rotes Licht getauchten Wänden schw
 eben\nKosten: Eintritt frei
DTSTART;TZID=Europe/Berlin:20260618T193000
DTEND;TZID=Europe/Berlin:20260618T203000
LOCATION:Offenbach: Ev. Johanneskirche Offenbach
SUMMARY:SonicSites - Kirche neu hören
URL:https://termine.ekhn.de/veranstaltung_im_detail41481.html
END:VEVENT
END:VCALENDAR
