BEGIN:VCALENDAR
VERSION:2.0
PRODID:-//evangelische-termine.de//NONSGML kigkonsult.se iCalcreator 2.18//
CALSCALE:GREGORIAN
METHOD:PUBLISH
X-WR-CALNAME:iCal Evangelische-Termine 20.04.2026
X-WR-CALDESC:iCalender von Evangelische-Termine (20.04.2026)
X-WR-TIMEZONE:Europe/Berlin
X-MS-OLK-FORCEINSPECTOROPEN:TRUE
BEGIN:VTIMEZONE
TZID:Europe/Berlin
BEGIN:STANDARD
DTSTART:19701025T030000
TZOFFSETFROM:+0200
TZOFFSETTO:+0100
RRULE:FREQ=YEARLY;BYDAY=-1SU;BYMONTH=10
TZNAME:CET
END:STANDARD
BEGIN:DAYLIGHT
DTSTART:19700329T020000
TZOFFSETFROM:+0100
TZOFFSETTO:+0200
RRULE:FREQ=YEARLY;BYDAY=-1SU;BYMONTH=3
TZNAME:CEST
END:DAYLIGHT
END:VTIMEZONE
BEGIN:VEVENT
UID:20260423T190000-41529@evangelische-termine.de
DTSTAMP:20260420T150609Z
DESCRIPTION:\nFür Engagierte: Nein\nVeranstaltungsort: Dorfcafé Fellerdilln
 \nRommelstraße 4 Haiger\n35708 Haiger-Fellerdilln\nFormat der Veranstaltun
 g: Präsenzveranstaltung\nAusführliche Beschreibung: Manchmal schreibt das 
 Leben die spannendsten\, berührendsten und humorvollsten Geschichten selbs
 t. Die Evangelische Kirchengemeinde Dillbrecht freut sich\, einen besonder
 en Gast im Dorfcafé in Fellerdilln begrüßen zu dürfen\, der genau diese Mo
 mente eingefangen hat. Am Donnerstag\, (23. April 2026) ist um 19 Uhr Pfar
 rer Hartmut Hühnerbein zu Gast. Unter dem Titel „Geschichten\, die das Leb
 en schrieb“ nimmt er uns mit auf eine Reise durch Erlebtes und Erzähltes. 
 Hartmut Hühnerbein ist bekannt für seine lebensbejahende Art und seine Fäh
 igkeit\, den Blick auf die kleinen und großen Wunder des Alltags zu lenken
 . Die Veranstaltung verspricht ein inspirierender Abend voller Tiefgang\, 
 Schmunzelmomenten und guter Gemeinschaft zu werden.\nInternetadresse: http
 s://ev-dill.de/artikel/popup-cafe-geht-in-die-verlaengerung?cHash=a18e4f92
 3a72397e78baf44e5bc51404\nKosten: Eintritt frei\nVeranstalter: Ev. Kirchen
 gemeinde Dillbrecht
DTSTART;TZID=Europe/Berlin:20260423T190000
DTEND;TZID=Europe/Berlin:20260423T203000
LOCATION:Haiger-Fellerdilln: Dorfcafé Fellerdilln
SUMMARY:Geschichten aus dem Leben im Dorfcafé :: mit Pfarrer Hartmut Hühner
 bein
URL:https://termine.ekhn.de/veranstaltung_im_detail41529.html
END:VEVENT
END:VCALENDAR
