BEGIN:VCALENDAR
VERSION:2.0
PRODID:-//evangelische-termine.de//NONSGML kigkonsult.se iCalcreator 2.18//
CALSCALE:GREGORIAN
METHOD:PUBLISH
X-WR-CALNAME:iCal Evangelische-Termine 22.04.2026
X-WR-CALDESC:iCalender von Evangelische-Termine (22.04.2026)
X-WR-TIMEZONE:Europe/Berlin
X-MS-OLK-FORCEINSPECTOROPEN:TRUE
BEGIN:VTIMEZONE
TZID:Europe/Berlin
BEGIN:STANDARD
DTSTART:19701025T030000
TZOFFSETFROM:+0200
TZOFFSETTO:+0100
RRULE:FREQ=YEARLY;BYDAY=-1SU;BYMONTH=10
TZNAME:CET
END:STANDARD
BEGIN:DAYLIGHT
DTSTART:19700329T020000
TZOFFSETFROM:+0100
TZOFFSETTO:+0200
RRULE:FREQ=YEARLY;BYDAY=-1SU;BYMONTH=3
TZNAME:CEST
END:DAYLIGHT
END:VTIMEZONE
BEGIN:VEVENT
UID:20260602T190000-41532@evangelische-termine.de
DTSTAMP:20260421T234851Z
DESCRIPTION:\nKurzbeschreibung / Untertitel: Online-Vortrag für Eltern\nAus
 führliche Beschreibung: Die Kita-Sozialarbeit der GüT-Kindertagesstätten d
 es Evangelischen Dekanats Ingelheim-Oppenheim lädt herzlich zum zweiten On
 line-Vortrag\, diesmal zum Thema 'Kindliche Ängste verstehen und begleiten
 ' via Zoom ein.\n\nÄngste gehören zum Aufwachsen - doch oft verunsichern s
 ie Eltern. Denn Kinder zeigen Ängste in ganz unterschiedlichen Situationen
  - z. B. bei Trennungen\, in der Dunkelheit\, vor konkreten Dingen oder Ti
 eren\, vor Unbekanntem oder Neuem. Eltern sind dann oft unsicher\, wie sie
  ihr Kind unterstützen können.\n\nIn diesem Vortrag erfahren Sie\, wie sic
 h kindliche Ängste zeigen und wie Sie Ihr Kind einfühlsam und stärkend beg
 leiten können - unabhängig vom Alter des Kindes. Wir klären gemeinsam folg
 ende Fragen: \n•	Wie zeigt sich Angst und woher kommt sie?\n•	Wie können wir
  die Angst unserer Kinder begleiten?\n•	Wie sieht eine altersgerechte Kommu
 nikation mit unseren Kindern zum Thema Angst aus?\nNach diesem Vortrag ver
 stehen Sie kindliche Ängste besser und können Ideen mitnehmen\, wie Sie Ih
 r Kind in ängstlichen Situationen unterstützen können.\n\nDas Team der Kit
 a-Sozialarbeit der GüT freut sich darauf\, Sie an diesem Abend willkommen 
 zu heißen und gemeinsam einen verstehenden Blick auf die Gefühlswelt der K
 inder zu werfen. \n\nZur Anmeldung: https://ekhn.link/mGCt9P\nNach Ihrer A
 nmeldung erhalten Sie am Veranstaltungstag den zugehörigen Zoom-Link zur T
 eilnahme.\n\nWeitere Informationen zur Kita-Sozialarbeit der GüT im Dekana
 t Ingelheim-Oppenheim: www.guet-dekanat-ingelheim-oppenheim.de\nAnmeldung:
  Ja\nBild Copyright: EKHN\nInternetadresse: https://www.guet-dekanat-ingel
 heim-oppenheim.de\nForm der Veranstaltung: Onlineveranstaltung\nVeranstalt
 er: Kita-Sozialarbeit der GüT-Kindertagesstätten / Evangelisches Dekanat I
 ngelheim-Oppenheim
DTSTART;TZID=Europe/Berlin:20260602T190000
DTEND;TZID=Europe/Berlin:20260602T210000
LOCATION:: Ohne Ort
SUMMARY:'Kindliche Ängste verstehen und begleiten'
URL:https://termine.ekhn.de/veranstaltung_im_detail41532.html
END:VEVENT
END:VCALENDAR
