BEGIN:VCALENDAR
VERSION:2.0
PRODID:-//evangelische-termine.de//NONSGML kigkonsult.se iCalcreator 2.18//
CALSCALE:GREGORIAN
METHOD:PUBLISH
X-WR-CALNAME:iCal Evangelische-Termine 26.04.2026
X-WR-CALDESC:iCalender von Evangelische-Termine (26.04.2026)
X-WR-TIMEZONE:Europe/Berlin
X-MS-OLK-FORCEINSPECTOROPEN:TRUE
BEGIN:VTIMEZONE
TZID:Europe/Berlin
BEGIN:STANDARD
DTSTART:19701025T030000
TZOFFSETFROM:+0200
TZOFFSETTO:+0100
RRULE:FREQ=YEARLY;BYDAY=-1SU;BYMONTH=10
TZNAME:CET
END:STANDARD
BEGIN:DAYLIGHT
DTSTART:19700329T020000
TZOFFSETFROM:+0100
TZOFFSETTO:+0200
RRULE:FREQ=YEARLY;BYDAY=-1SU;BYMONTH=3
TZNAME:CEST
END:DAYLIGHT
END:VTIMEZONE
BEGIN:VEVENT
UID:20260426T093000-41601@evangelische-termine.de
DTSTAMP:20260425T233157Z
DESCRIPTION:\nFür Engagierte: Nein\nVeranstaltungsort: Evangelische Wehrkir
 che Klein-Umstadt\nAn der Wehrkirche 6\n64823 Groß-Umstadt/Klein-Umstadt\n
 Format der Veranstaltung: Präsenzveranstaltung\nAusführliche Beschreibung:
  Lobe den Herrn meine Seele... Der kommende Sonntag trägt den fröhlichen N
 amen „Jubilate! Freut Euch! Jubelt! Lobt Gott!“... Er schwärmt vom Neuen\,
  das geworden ist. Von der lebendigen Verbundenheit von Gott und Mensch un
 d ganzer Welt. Er schwärmt von der Weite\, die Gott uns eröffnet\, von dem
  festen Boden\, auf den er uns stellt\, von Gottes achtsamer und fürsorgli
 cher Art\, von Gottes Kraft\, die uns durchdringt. Jubeln lässt sich nicht
  verordnen. Aber\, so hat es einer geschrieben\, Jubeln lässt sich kultivi
 eren: im Beten und Singen. Jubeln lässt sich kultivieren\, einüben. Ja\, e
 s ist möglich\, so wie man selbst gerade gestimmt ist\, in den Jubel einzu
 treten und dabei seine ganze eigene Wirklichkeit mit zu nehmen.  \n\nIm Mi
 ttelpunkt dieses Gottesdienstes steht das Lied EG+87\, 'Lobe den Herrn mei
 ne Seele'. Es ist angelehnt an Psalm 103\, der auch als „Hohelied der Barm
 herzigkeit“ bezeichnet wird\, ein Lobspalm\, der der die Güte\, Vergebung 
 und Liebe Gottes gegenüber den Menschen preist\, ein Mutmachlied.\nVeranst
 alter: Evangelische Kirchengemeinde Klein-Umstadt mit Dorndiel
DTSTART;TZID=Europe/Berlin:20260426T093000
DTEND;TZID=Europe/Berlin:20260426T103000
LOCATION:Groß-Umstadt/Klein-Umstadt: Evangelische Wehrkirche Klein-Umstadt
SUMMARY:Gottesdienst zum Sonntag Jubilate
URL:https://termine.ekhn.de/veranstaltung_im_detail41601.html
END:VEVENT
END:VCALENDAR
