BEGIN:VCALENDAR
VERSION:2.0
PRODID:-//evangelische-termine.de//NONSGML kigkonsult.se iCalcreator 2.18//
CALSCALE:GREGORIAN
METHOD:PUBLISH
X-WR-CALNAME:iCal Evangelische-Termine 21.04.2026
X-WR-CALDESC:iCalender von Evangelische-Termine (21.04.2026)
X-WR-TIMEZONE:Europe/Berlin
X-MS-OLK-FORCEINSPECTOROPEN:TRUE
BEGIN:VTIMEZONE
TZID:Europe/Berlin
BEGIN:STANDARD
DTSTART:19701025T030000
TZOFFSETFROM:+0200
TZOFFSETTO:+0100
RRULE:FREQ=YEARLY;BYDAY=-1SU;BYMONTH=10
TZNAME:CET
END:STANDARD
BEGIN:DAYLIGHT
DTSTART:19700329T020000
TZOFFSETFROM:+0100
TZOFFSETTO:+0200
RRULE:FREQ=YEARLY;BYDAY=-1SU;BYMONTH=3
TZNAME:CEST
END:DAYLIGHT
END:VTIMEZONE
BEGIN:VEVENT
UID:20260424T183000-41618@evangelische-termine.de
DTSTAMP:20260421T171029Z
DESCRIPTION:\nFür Engagierte: Nein\nVeranstaltungsort: Ev.Kirche Eisemroth
 \nKirchbergstraße\n35768 Siegbach\nFormat der Veranstaltung: Präsenzverans
 taltung\nAusführliche Beschreibung: Schlager berühren das Herz und die See
 le: Musik und Glauben verbindet der Schlagergottesdienst am Freitag\, 24. 
 April 2026 um 18.30 Uhr. Vikarin Nele Fornhoff hält die Predigt und lässt 
 bekannte Schlager im Gottesdienst erklingen. Die Lieder erzählen von Sehns
 ucht\, Liebe und Lebensfreude - und laden zum Mitsingen ein. \n\nIm Anschl
 uss an den Gottesdienst geht es mit einer Schlager-Party im Evangelischen 
 Gemeindehaus Eisemroth (Übernthaler Straße 13) weiter. Es besteht Zeit für
  Begegnung\, Gespräche und gute Laune.
DTSTART;TZID=Europe/Berlin:20260424T183000
DTEND;TZID=Europe/Berlin:20260424T203000
LOCATION:Siegbach: Ev.Kirche Eisemroth
SUMMARY:Tipp: Schlager-Gottesdienst :: in der Ev. Kirche Siegbach-Eisemroth
URL:https://termine.ekhn.de/veranstaltung_im_detail41618.html
END:VEVENT
END:VCALENDAR
