BEGIN:VCALENDAR
VERSION:2.0
PRODID:-//evangelische-termine.de//NONSGML kigkonsult.se iCalcreator 2.18//
CALSCALE:GREGORIAN
METHOD:PUBLISH
X-WR-CALNAME:iCal Evangelische-Termine 25.04.2026
X-WR-CALDESC:iCalender von Evangelische-Termine (25.04.2026)
X-WR-TIMEZONE:Europe/Berlin
X-MS-OLK-FORCEINSPECTOROPEN:TRUE
BEGIN:VTIMEZONE
TZID:Europe/Berlin
BEGIN:STANDARD
DTSTART:19701025T030000
TZOFFSETFROM:+0200
TZOFFSETTO:+0100
RRULE:FREQ=YEARLY;BYDAY=-1SU;BYMONTH=10
TZNAME:CET
END:STANDARD
BEGIN:DAYLIGHT
DTSTART:19700329T020000
TZOFFSETFROM:+0100
TZOFFSETTO:+0200
RRULE:FREQ=YEARLY;BYDAY=-1SU;BYMONTH=3
TZNAME:CEST
END:DAYLIGHT
END:VTIMEZONE
BEGIN:VEVENT
UID:20260426T100000-41627@evangelische-termine.de
DTSTAMP:20260425T141336Z
DESCRIPTION:\nFür Engagierte: Nein\nVeranstaltungsort: Ev. Kirche Frohnhaus
 en\nBrühlstraße 24\n35684 Dillenburg-Frohnhausen\nFormat der Veranstaltung
 : Präsenzveranstaltung\nAusführliche Beschreibung: Die Kirchengemeinde Fro
 hnhausen lädt am Sonntag\, 26. April 2026 zum Gottesdienst mit Konfirmatio
 n ein. Beginn ist um 10 Uhr in der Kirche. Pfarrer vom Dahl predigt\, Musi
 k und Gesang gestaltet Lisa Kunz. \nDer Gottesdienst wird im Livestream au
 f dem Youtubekanal der Gemeinde übertragen unter: www.youtube.com/EvKirche
 ngemeindeFrohnhausen
DTSTART;TZID=Europe/Berlin:20260426T100000
DTEND;TZID=Europe/Berlin:20260426T113000
LOCATION:Dillenburg-Frohnhausen: Ev. Kirche Frohnhausen
SUMMARY:Konfirmation in Frohnhausen
URL:https://termine.ekhn.de/veranstaltung_im_detail41627.html
END:VEVENT
END:VCALENDAR
