BEGIN:VCALENDAR
VERSION:2.0
PRODID:-//evangelische-termine.de//NONSGML kigkonsult.se iCalcreator 2.18//
CALSCALE:GREGORIAN
METHOD:PUBLISH
X-WR-CALNAME:iCal Evangelische-Termine 22.04.2026
X-WR-CALDESC:iCalender von Evangelische-Termine (22.04.2026)
X-WR-TIMEZONE:Europe/Berlin
X-MS-OLK-FORCEINSPECTOROPEN:TRUE
BEGIN:VTIMEZONE
TZID:Europe/Berlin
BEGIN:STANDARD
DTSTART:19701025T030000
TZOFFSETFROM:+0200
TZOFFSETTO:+0100
RRULE:FREQ=YEARLY;BYDAY=-1SU;BYMONTH=10
TZNAME:CET
END:STANDARD
BEGIN:DAYLIGHT
DTSTART:19700329T020000
TZOFFSETFROM:+0100
TZOFFSETTO:+0200
RRULE:FREQ=YEARLY;BYDAY=-1SU;BYMONTH=3
TZNAME:CEST
END:DAYLIGHT
END:VTIMEZONE
BEGIN:VEVENT
UID:20260510T170000-41739@evangelische-termine.de
DTSTAMP:20260421T233957Z
DESCRIPTION:\nFür Engagierte: Nein\nFormat der Veranstaltung: Präsenzverans
 taltung\nAusführliche Beschreibung: Der Orfeo Chor Frankfurt führt am 10. 
 Mai 2026 um 17:00 Uhr in der Evangelischen Kirche Guntersblum unter dem Ti
 tel 'An hellen Tagen' A-Cappella-Chormusik und Werke für Barockvioline\, B
 arockcello und Cembalo auf. \nIn seinem Frühjahrs-Programm 2026 nimmt Sie
  der Orfeo Chor mit auf eine Reisedurch den Tag - vom ersten Lichtstrahl b
 is zur tiefen Ruhe der Nacht.\nDie ausgewählten geistlichen und weltlichen
  A-Cappella-Werke aus dem Repertoire des Orfeo Chors führen durch die Epo
 chen der Renaissance und des Barock\, bis hin zur Romantik und behandeln d
 ie vielfältigen Emotionen des Lebens: Freude\, Zuversicht\, Liebe\, Sehnsu
 cht\, Verzweiflung\, Trost\, Hoffnung.\nDen Auftakt bilden heitere Chorwer
 ke von Adriano Banchieri\, Giovanni Giacomo Gastoldi und Johann Georg Ebel
 ing\, die die Schöpfung\, das Licht und die Sonne feiern.\nEs folgen Liede
 r der Renaissance über die lustvolle Liebe und Lebensfreude von Orlando d
 i Lasso und Claudio Monteverdi.\nDas melancholische Werk von Adrian Willae
 rt über die Sehnsucht unerfüllter Liebe leitet über auf die nachfolgend
 en nachdenklichen\, spirituellen Chorwerke von Jan Pieterszoon Sweelinck\,
  Tomás Luis de Victoria und Jacques Arcadelt\, die das Gefühl der Verlass
 enheit auf der einen und den Glauben auf der anderen Seite behandeln.\nDer
  Trauer und Verzweiflung über erzwungene Trennungen und den Abschied von 
 geliebten Menschen\, die in den Werken von Robert Schumann\, Ludwig Senfl 
 und Heinrich Isaac im vorletzten Teil des Konzertes zum Ausdruck kommen\, 
 folgen zum Ausklang des Konzertes versöhnliche und hoffnungsvolle Lieder z
 ur abendlichen\nEinkehr von Frieden und Trost und der vom Mond beschützte
 n Nacht.\nInstrumentalmusik auf Violine\, Violoncello und Cembalo verschie
 dener barocker Meister gliedern und ergänzen die Chorpartien.\nDer Eintrit
 t ist frei. Spenden sind willkommen. www.orfeo-chor.de\nInternetadresse: h
 ttps://www.orfeo-chor.de\nKosten: Der Eintritt ist frei\nVeranstalter: Eva
 ngelische Kirchengemeinde Guntersblum
DTSTART;TZID=Europe/Berlin:20260510T170000
DTEND;TZID=Europe/Berlin:20260510T190000
LOCATION:: Ohne Ort
SUMMARY:Guntersblum: A-Capella Musik im Mai :: Der Orfeo Chor Frankfurt füh
 rte Werke von Banchieri\, Monteverdi\, Robert Schumann und Max Reger auf.
URL:https://termine.ekhn.de/veranstaltung_im_detail41739.html
END:VEVENT
END:VCALENDAR
