BEGIN:VCALENDAR
VERSION:2.0
PRODID:-//evangelische-termine.de//NONSGML kigkonsult.se iCalcreator 2.18//
CALSCALE:GREGORIAN
METHOD:PUBLISH
X-WR-CALNAME:iCal Evangelische-Termine 24.04.2026
X-WR-CALDESC:iCalender von Evangelische-Termine (24.04.2026)
X-WR-TIMEZONE:Europe/Berlin
X-MS-OLK-FORCEINSPECTOROPEN:TRUE
BEGIN:VTIMEZONE
TZID:Europe/Berlin
BEGIN:STANDARD
DTSTART:19701025T030000
TZOFFSETFROM:+0200
TZOFFSETTO:+0100
RRULE:FREQ=YEARLY;BYDAY=-1SU;BYMONTH=10
TZNAME:CET
END:STANDARD
BEGIN:DAYLIGHT
DTSTART:19700329T020000
TZOFFSETFROM:+0100
TZOFFSETTO:+0200
RRULE:FREQ=YEARLY;BYDAY=-1SU;BYMONTH=3
TZNAME:CEST
END:DAYLIGHT
END:VTIMEZONE
BEGIN:VEVENT
UID:20260519T083000-41809@evangelische-termine.de
DTSTAMP:20260424T140252Z
DESCRIPTION:\nFür Engagierte: Ja\nVeranstaltungsort: Frankfurt University o
 f Applied Sciences\nNibelungenplatz 1\n60318 Frankfurt\nFormat der Veranst
 altung: Präsenzveranstaltung\nKurzbeschreibung / Untertitel: Fachtag widme
 t sich anlässlich des IDAHOBITA 2026 der Situation queerer Geflüchteter\nA
 usführliche Beschreibung: Welche besonderen Bedürfnisse haben queere Geflü
 chtete im Asylverfahren und für ihr Leben in Deutschland? Mit welchen Schw
 ierigkeiten sehen sie sich konfrontiert? Welche Handlungsmöglichkeiten hab
 en helfende Berufsgruppen? Wie positionieren sich politisch Verantwortlich
 e zum Thema? Diese und weitere Fragen nimmt der Fachtag in den Fokus.\nEr 
 findet statt im Zuge des IDAHOBITA* – dem Internationalen Tag gegen Homo-\
 , Bi-\, Inter-\, Trans- und Asexuellenfeindlichkeit – und ist zugleich ein
  Beitrag zum Deutschen Diversity Tag der Charta der Vielfalt. Die Veransta
 ltung befasst sich nicht nur fachlich und politisch mit der Situation quee
 rer Geflüchteter\, sondern setzt diese auch biografisch-künstlerisch um.  
 Das politische Podium der Tagung wird von der bekannten Moderatorin Bettin
 a Böttinger gehostet\, die Tagesmoderation übernimmt Nicole Peinz\, Amt fü
 r multikulturelle Angelegenheiten (AmkA) der Stadt Frankfurt am Main. Gruß
 worte halten Sozialministerin Heike Hofmann und Bürgermeisterin Dr. Narges
 s Eskandari-Grünberg.  \n Der künstlerisch-biografische Block des Fachtags
  wird von Nadia Saadi\, Co-Gründerin Rainbow Stories\, und Nicole Peinz\, 
 AmkA\, kuratiert. Im Zentrum dieses Blocks steht die Lebensgeschichte von 
 Fabian Kagimu\, Trans*aktivistin und Gründerin von prismuganda.org. Fabian
 s Story\, verfasst von Autorin Nadia Saadi\, wird von Aktivistin und Schau
 spielerin Rokhi Müller vorgetragen. Künstlerisch inszeniert wird sie von S
 ängerin Kaye-Ree sowie Kostümdesigner Sadik. Illustriert und dokumentiert 
 wird das Event von Sitha Reis\, die mit ihrem Graphic Recording die Tagung
  in Echtzeit begleitet.\nDas Politische Podium wird von Talk-Legende Betti
 na Böttinger moderiert. Ins Gespräch kommen: \nBerivan Şekerci\, Beauftrag
 te für Antidiskriminierung des Landes Hessen\nAndreas Ewald\, Mitglied des
  Landtags\, Sprecher für Queerpolitik von BÜNDNIS 90/DIE GRÜNEN im Hessisc
 hen Landtag\nVerena David\, Queerpolitische Sprecherin der CDU im Römer\nu
 . a.\n\nÖffentliche Veranstaltung. Der Besuch einzelner Programmblöcke ist
  möglich. Die Teilnahme ist kostenfrei.\nInternetadresse: https://www.fran
 kfurt-university.de/de/hochschule/wir-ueber-uns/chancengerechtigkeit-und-d
 iversity/diversity-policies/idahobita/veranstaltungen/idahobita-2026/\nBil
 d Alttext: Das Bild zeigt das Gesicht einer schwarzen Frau mit einer farbi
 gen Gesichtbemalung mit den Buchstaben PRIDE\nKosten: Kostenfrei\nVeransta
 lter: Frankfurt University of Applied Sciences\nTelefonnummer bei Rückfrag
 en zur Veranstaltung: 0179 603 3396
DTSTART;TZID=Europe/Berlin:20260519T083000
DTEND;TZID=Europe/Berlin:20260519T163000
LOCATION:Frankfurt: Frankfurt University of Applied Sciences
SUMMARY:Sehnsucht nach Freiheit – Queere Perspektiven auf Migration\, Fluch
 t und Asyl :: Fachtag an der Frankfurt UAS
URL:https://termine.ekhn.de/veranstaltung_im_detail41809.html
END:VEVENT
END:VCALENDAR
