BEGIN:VCALENDAR
VERSION:2.0
PRODID:-//evangelische-termine.de//NONSGML kigkonsult.se iCalcreator 2.18//
CALSCALE:GREGORIAN
METHOD:PUBLISH
X-WR-CALNAME:iCal Evangelische-Termine 25.04.2026
X-WR-CALDESC:iCalender von Evangelische-Termine (25.04.2026)
X-WR-TIMEZONE:Europe/Berlin
X-MS-OLK-FORCEINSPECTOROPEN:TRUE
BEGIN:VTIMEZONE
TZID:Europe/Berlin
BEGIN:STANDARD
DTSTART:19701025T030000
TZOFFSETFROM:+0200
TZOFFSETTO:+0100
RRULE:FREQ=YEARLY;BYDAY=-1SU;BYMONTH=10
TZNAME:CET
END:STANDARD
BEGIN:DAYLIGHT
DTSTART:19700329T020000
TZOFFSETFROM:+0100
TZOFFSETTO:+0200
RRULE:FREQ=YEARLY;BYDAY=-1SU;BYMONTH=3
TZNAME:CEST
END:DAYLIGHT
END:VTIMEZONE
BEGIN:VEVENT
UID:20260425T190000-41827@evangelische-termine.de
DTSTAMP:20260425T145235Z
DESCRIPTION:\nVeranstaltungsort: Ev. Auferstehungsgemeinde\nAm Fort Gonsenh
 eim 141\n55122 Mainz\nAusführliche Beschreibung: Das Konzert wird verschob
 en\, neuer Termin wird bekannt gegeben.
DTSTART;TZID=Europe/Berlin:20260425T190000
DTEND;TZID=Europe/Berlin:20260425T200000
LOCATION:Mainz: Ev. Auferstehungsgemeinde
SUMMARY:Konzert mit Manfred Siebald - FÄLLT AUS! -
URL:https://termine.ekhn.de/veranstaltung_im_detail41827.html
END:VEVENT
END:VCALENDAR
